BEGIN:VCALENDAR
METHOD:PUBLISH
VERSION:2.0
CALSCALE:GREGORIAN
PRODID:-//NONSGML Sandhills Development\, LLC//NONSGML Sugar Calendar Fe
 eds v3.6.6//EN
X-WR-CALNAME:Workshop: Inbox Triage
X-WR-CALDESC:Bangor Downtown
X-WR-TIMEZONE:America/New_York
BEGIN:VTIMEZONE
TZID:America/New_York
BEGIN:STANDARD
TZOFFSETFROM:-0400
TZOFFSETTO:-0500
DTSTART:20251102T060000
TZNAME:EST
END:STANDARD
BEGIN:DAYLIGHT
TZOFFSETFROM:-0500
TZOFFSETTO:-0400
DTSTART:20260308T070000
TZNAME:EDT
END:DAYLIGHT
END:VTIMEZONE
BEGIN:VTIMEZONE
TZID:America/New_York
BEGIN:STANDARD
TZOFFSETFROM:-0400
TZOFFSETTO:-0500
DTSTART:20251102T060000
TZNAME:EST
END:STANDARD
BEGIN:DAYLIGHT
TZOFFSETFROM:-0500
TZOFFSETTO:-0400
DTSTART:20260308T070000
TZNAME:EDT
END:DAYLIGHT
END:VTIMEZONE
BEGIN:VEVENT
SUMMARY:Workshop: Inbox Triage
DESCRIPTION:Is your email inbox overflowing with unwanted newsletters an
 d promotions? Is it difficult to find the messages you are looking for a
 midst all the noise? This hands-on workshop will walk participants throu
 gh how to unsubscribe from unwanted emails\, delete old messages en mass
 e\, organize your inbox\, and achieve a calmer\, easier-to-navigate emai
 l life.\n\n\n\nThis workshop is appropriate for participants who already
  have an email address on any service. Please bring along the device(s) 
 that you typically access your email from - laptops\, phones\, and table
 ts all welcome! Laptop computers will be available for those who don't h
 ave a portable device. Please make sure you know or bring your email acc
 ount password.\n\n\n\nThis workshop is free of charge\, but space is lim
 ited\, so registration is required to attend. Register using the form be
 low or by calling Hannah at 922-6055. Attendance in-person and by Zoom i
 s available. For more information\, contact Hannah at 922-6055 or hannah
 .cyrus@bangorpubliclibrary.org.
URL;VALUE=URI:https://downtownbangor.com/events/workshop-inbox-triage/
UID:urn:uuid:2a1d0a27-b447-4b2a-9596-418c1f2997e1
STATUS:CONFIRMED
ORGANIZER:
DTSTAMP:20260423T151308Z
DTSTART;TZID=America/New_York:20260311T140000
DTEND;TZID=America/New_York:20260311T160000
LOCATION:145 Harlow St
END:VEVENT
END:VCALENDAR