BEGIN:VCALENDAR
METHOD:PUBLISH
VERSION:2.0
CALSCALE:GREGORIAN
PRODID:-//NONSGML Sandhills Development\, LLC//NONSGML Sugar Calendar Fe
 eds v3.6.6//EN
X-WR-CALNAME:Womenâ€™s Wellness Market: Shop - Self Care - Sip
X-WR-CALDESC:Bangor Downtown
X-WR-TIMEZONE:America/New_York
BEGIN:VTIMEZONE
TZID:America/New_York
BEGIN:STANDARD
TZOFFSETFROM:-0400
TZOFFSETTO:-0500
DTSTART:20251102T060000
TZNAME:EST
END:STANDARD
BEGIN:DAYLIGHT
TZOFFSETFROM:-0500
TZOFFSETTO:-0400
DTSTART:20260308T070000
TZNAME:EDT
END:DAYLIGHT
END:VTIMEZONE
BEGIN:VTIMEZONE
TZID:America/New_York
BEGIN:STANDARD
TZOFFSETFROM:-0400
TZOFFSETTO:-0500
DTSTART:20251102T060000
TZNAME:EST
END:STANDARD
BEGIN:DAYLIGHT
TZOFFSETFROM:-0500
TZOFFSETTO:-0400
DTSTART:20260308T070000
TZNAME:EDT
END:DAYLIGHT
END:VTIMEZONE
BEGIN:VEVENT
SUMMARY:Womenâ€™s Wellness Market: Shop - Self Care - Sip
DESCRIPTION:The Womenâ€™s Wellness Market on March 14th is a celebration
  of women-owned businesses\, creativity\, and self-care. This unique sho
 pping experience brings together more than 20 talented vendors offering 
 a wide range of products and services designed to help you look and feel
  your best. Browse beautiful handmade jewelry\, locally crafted soaps an
 d candles\, and connect with wellness professionals offering services li
 ke massage therapy\, nail care\, hair services\, tattoos\, and more.\n\n
 Designed to be relaxed and welcoming\, the market invites you to shop at
  your own pace\, discover new favorites\, and support local entrepreneur
 s. Grab your friends and make it a fun outing â€” the bar will be open s
 o you can sip and shop while enjoying a lively\, social atmosphere. Whet
 her youâ€™re treating yourself or finding the perfect gift\, the Womenâ€
 ™s Wellness Market is the perfect place to spend part of your day.\n\nFR
 EE ADMISSION  | PLENTY OF PARKING\n\nHosted by Eventful Maine\n\nSponsor
 ed by KeyBank\, Holly Taylor Realtor\, and Comparion Insurance.
URL;VALUE=URI:https://downtownbangor.com/events/womens-wellness-market-s
 hop-self-care-sip/
UID:urn:uuid:d829c891-1293-464c-87e2-e66823c9b34c
STATUS:CONFIRMED
ORGANIZER:
DTSTAMP:20260423T091321Z
DTSTART;TZID=America/New_York:20260314T110000
DTEND;TZID=America/New_York:20260314T150000
LOCATION:500 Main Street
END:VEVENT
END:VCALENDAR