BEGIN:VCALENDAR
METHOD:PUBLISH
VERSION:2.0
CALSCALE:GREGORIAN
PRODID:-//NONSGML Sandhills Development\, LLC//NONSGML Sugar Calendar Fe
 eds v3.6.6//EN
X-WR-CALNAME:Wishing Under the Stars Gala
X-WR-CALDESC:Bangor Downtown
X-WR-TIMEZONE:America/New_York
BEGIN:VTIMEZONE
TZID:America/New_York
BEGIN:STANDARD
TZOFFSETFROM:-0400
TZOFFSETTO:-0500
DTSTART:20251102T060000
TZNAME:EST
END:STANDARD
BEGIN:DAYLIGHT
TZOFFSETFROM:-0500
TZOFFSETTO:-0400
DTSTART:20260308T070000
TZNAME:EDT
END:DAYLIGHT
END:VTIMEZONE
BEGIN:VTIMEZONE
TZID:America/New_York
BEGIN:STANDARD
TZOFFSETFROM:-0400
TZOFFSETTO:-0500
DTSTART:20251102T060000
TZNAME:EST
END:STANDARD
BEGIN:DAYLIGHT
TZOFFSETFROM:-0500
TZOFFSETTO:-0400
DTSTART:20260308T070000
TZNAME:EDT
END:DAYLIGHT
END:VTIMEZONE
BEGIN:VEVENT
SUMMARY:Wishing Under the Stars Gala
DESCRIPTION:You are invited to the Wishing Under the Stars Gala!March 21
  | 5 – 10 PMCross Insurance Center | Bangor\n\n\n\nCelebrate the Make-
 A-Wish mission and its impact on children and families throughout our co
 mmunities. Don’t miss our ever popular All-You-Can-Eat Candy Buffet\, 
 dinner\, music\, dancing\, auction\, and lots of inspiration!\n\n\n\nTic
 kets are $75 – purchase yours today: https://one.bidpal.net/wuts26/wel
 come\n\n\n\nThank you to our Wish Granting Partners Darling's Auto Group
 \, Ron Bragg Carpentry\, Showcase Homes of Maine\; and Lead Partners K-D
 ogg General Service Contracting\, Rentbangor.com\, and United Insurance.
 \n\n\n\nAdditional partnership opportunities are available! Please conta
 ct Nichole Rutherford at (207) 221-2306 or by email at nrutherford@maine
 .wish.org to learn more.
URL;VALUE=URI:https://downtownbangor.com/events/wishing-under-the-stars-
 gala/
UID:urn:uuid:de0443be-86d7-4f72-a032-bd6d083c400b
STATUS:CONFIRMED
ORGANIZER:
DTSTAMP:20260420T120147Z
DTSTART;TZID=America/New_York:20260321T170000
DTEND;TZID=America/New_York:20260321T220000
LOCATION:515 Main Street Bangor\, Maine
END:VEVENT
END:VCALENDAR