BEGIN:VCALENDAR
METHOD:PUBLISH
VERSION:2.0
CALSCALE:GREGORIAN
PRODID:-//NONSGML Sandhills Development\, LLC//NONSGML Sugar Calendar Fe
 eds v3.6.6//EN
X-WR-CALNAME:Thriller Writers on the Art of Suspense and Influences of S
 tephen King
X-WR-CALDESC:Bangor Downtown
X-WR-TIMEZONE:America/New_York
BEGIN:VTIMEZONE
TZID:America/New_York
BEGIN:DAYLIGHT
TZOFFSETFROM:-0400
TZOFFSETTO:-0400
DTSTART:20240409T070000
TZNAME:EDT
END:DAYLIGHT
END:VTIMEZONE
BEGIN:VTIMEZONE
TZID:America/New_York
BEGIN:DAYLIGHT
TZOFFSETFROM:-0400
TZOFFSETTO:-0400
DTSTART:20240409T070000
TZNAME:EDT
END:DAYLIGHT
END:VTIMEZONE
BEGIN:VEVENT
SUMMARY:Thriller Writers on the Art of Suspense and Influences of Stephe
 n King
DESCRIPTION:Thriller writers at all stages of their careers will discuss
  the genre\, the types of suspense that excite them most\, and the lasti
 ng impacts of the books and stories of Stephen King. Featuring Steph Cha
  (author of Your House Will Pay and current series editor of the Best Am
 erican Mystery &amp\; Suspense anthology)\, Mo Drammeh (Maine Lit Fest F
 ellow and author of Where the Cryptids Fled)\, Paul Tremblay (author of 
 10 books including his latest\, Horror Movie\, and The Cabin at the End 
 of the World)\, and Rebecca Turkewitz (author of Here in the Night). Fac
 ilitated by Katrina Niidas Holm.\n\nBriar Patch Books will sell books.\n
 \nFree event with RSVP.
URL;VALUE=URI:https://downtownbangor.com/events/thriller-writers-on-the-
 art-of-suspense-and-influences-of-stephen-king/
UID:urn:uuid:32162517-7b71-4e91-92e8-5fd2b8a0dffc
STATUS:CONFIRMED
ORGANIZER:
DTSTAMP:20260423T091338Z
DTSTART;TZID=America/New_York:20241008T190000
DTEND;TZID=America/New_York:20241008T203000
LOCATION:Penobscot Theatre Company
END:VEVENT
END:VCALENDAR