BEGIN:VCALENDAR
METHOD:PUBLISH
VERSION:2.0
CALSCALE:GREGORIAN
PRODID:-//NONSGML Sandhills Development\, LLC//NONSGML Sugar Calendar Fe
 eds v3.6.6//EN
X-WR-CALNAME:Then Sings My Soul
X-WR-CALDESC:Bangor Downtown
X-WR-TIMEZONE:America/New_York
BEGIN:VTIMEZONE
TZID:America/New_York
BEGIN:DAYLIGHT
TZOFFSETFROM:-0500
TZOFFSETTO:-0400
DTSTART:20260308T070000
TZNAME:EDT
END:DAYLIGHT
END:VTIMEZONE
BEGIN:VTIMEZONE
TZID:America/New_York
BEGIN:DAYLIGHT
TZOFFSETFROM:-0500
TZOFFSETTO:-0400
DTSTART:20260308T070000
TZNAME:EDT
END:DAYLIGHT
END:VTIMEZONE
BEGIN:VEVENT
SUMMARY:Then Sings My Soul
DESCRIPTION:Hymn Sing! "Then Sings My Soul". 250 Years of Christian Musi
 c from 1776-2026. We will sing variety of hymns from the Colonial era to
  the music of today. Audience Participation is Encouraged and Expected! 
 Free\, All are Welcome.
URL;VALUE=URI:https://downtownbangor.com/events/then-sings-my-soul/
UID:urn:uuid:6a484cb4-ee27-4557-abeb-c2af6290d914
STATUS:CONFIRMED
ORGANIZER:
DTSTAMP:20260424T144507Z
DTSTART;TZID=America/New_York:20260614T170000
DTEND;TZID=America/New_York:20260614T181500
LOCATION:63 Columbia Street
END:VEVENT
END:VCALENDAR