BEGIN:VCALENDAR
METHOD:PUBLISH
VERSION:2.0
CALSCALE:GREGORIAN
PRODID:-//NONSGML Sandhills Development\, LLC//NONSGML Sugar Calendar Fe
 eds v3.6.6//EN
X-WR-CALNAME:The Teen Hive
X-WR-CALDESC:Bangor Downtown
X-WR-TIMEZONE:America/New_York
BEGIN:VTIMEZONE
TZID:America/New_York
BEGIN:STANDARD
TZOFFSETFROM:-0400
TZOFFSETTO:-0500
DTSTART:20251102T060000
TZNAME:EST
END:STANDARD
BEGIN:DAYLIGHT
TZOFFSETFROM:-0500
TZOFFSETTO:-0400
DTSTART:20260308T070000
TZNAME:EDT
END:DAYLIGHT
END:VTIMEZONE
BEGIN:VTIMEZONE
TZID:America/New_York
BEGIN:STANDARD
TZOFFSETFROM:-0400
TZOFFSETTO:-0500
DTSTART:20251102T060000
TZNAME:EST
END:STANDARD
BEGIN:DAYLIGHT
TZOFFSETFROM:-0500
TZOFFSETTO:-0400
DTSTART:20260308T070000
TZNAME:EDT
END:DAYLIGHT
END:VTIMEZONE
BEGIN:VEVENT
SUMMARY:The Teen Hive
DESCRIPTION:Join us on Thursday afternoons for The Teen Hive\, a group d
 esigned for teens who want to spend time together and learn more about t
 hemselves and each other. This group is dedicated to creating a safe and
  welcoming space where everyone belongs. The Hive comes together to shar
 e experiences\, engage in fun and exciting activities\, and support one 
 another through whatever life throws at us. Whether you're looking to le
 arn\, make new friends\, or simply have a great time\, The Teen Hive is 
 here to celebrate you!
URL;VALUE=URI:https://downtownbangor.com/events/the-teen-hive/
UID:urn:uuid:5c233f4b-ead3-45f3-af3d-61a2c645f8c0
STATUS:CONFIRMED
ORGANIZER:
DTSTAMP:20260424T130812Z
DTSTART;TZID=America/New_York:20260430T160000
DTEND;TZID=America/New_York:20260430T170000
LOCATION:145 Harlow St
END:VEVENT
END:VCALENDAR