BEGIN:VCALENDAR
METHOD:PUBLISH
VERSION:2.0
CALSCALE:GREGORIAN
PRODID:-//NONSGML Sandhills Development\, LLC//NONSGML Sugar Calendar Fe
 eds v3.6.6//EN
X-WR-CALNAME:Teen Dungeons and Dragons Club
X-WR-CALDESC:Bangor Downtown
X-WR-TIMEZONE:America/New_York
BEGIN:VTIMEZONE
TZID:America/New_York
BEGIN:STANDARD
TZOFFSETFROM:-0400
TZOFFSETTO:-0500
DTSTART:20251102T060000
TZNAME:EST
END:STANDARD
BEGIN:DAYLIGHT
TZOFFSETFROM:-0500
TZOFFSETTO:-0400
DTSTART:20260308T070000
TZNAME:EDT
END:DAYLIGHT
END:VTIMEZONE
BEGIN:VTIMEZONE
TZID:America/New_York
BEGIN:STANDARD
TZOFFSETFROM:-0400
TZOFFSETTO:-0500
DTSTART:20251102T060000
TZNAME:EST
END:STANDARD
BEGIN:DAYLIGHT
TZOFFSETFROM:-0500
TZOFFSETTO:-0400
DTSTART:20260308T070000
TZNAME:EDT
END:DAYLIGHT
END:VTIMEZONE
BEGIN:VEVENT
SUMMARY:Teen Dungeons and Dragons Club
DESCRIPTION:Calling all barbarians\, rangers\, sorcerers\, and warlocks!
  Join us every Wednesday for everyone’s favorite tabletop role-playing
  game. All skill levels welcome! Grades 6-12 only\, please.
URL;VALUE=URI:https://downtownbangor.com/events/teen-dungeons-and-dragon
 s-club/
UID:urn:uuid:3c30e862-9c7b-4b37-8c72-5bbcff727445
STATUS:CONFIRMED
ORGANIZER:
DTSTAMP:20260424T131036Z
DTSTART;TZID=America/New_York:20260429T160000
DTEND;TZID=America/New_York:20260429T173000
LOCATION:145 Harlow St
END:VEVENT
END:VCALENDAR