BEGIN:VCALENDAR
METHOD:PUBLISH
VERSION:2.0
CALSCALE:GREGORIAN
PRODID:-//NONSGML Sandhills Development\, LLC//NONSGML Sugar Calendar Fe
 eds v3.6.6//EN
X-WR-CALNAME:Swingmatism-In the Atrium
X-WR-CALDESC:Bangor Downtown
X-WR-TIMEZONE:America/New_York
BEGIN:VTIMEZONE
TZID:America/New_York
BEGIN:DAYLIGHT
TZOFFSETFROM:-0400
TZOFFSETTO:-0400
DTSTART:20240403T060000
TZNAME:EDT
END:DAYLIGHT
END:VTIMEZONE
BEGIN:VTIMEZONE
TZID:America/New_York
BEGIN:DAYLIGHT
TZOFFSETFROM:-0400
TZOFFSETTO:-0400
DTSTART:20240403T060000
TZNAME:EDT
END:DAYLIGHT
END:VTIMEZONE
BEGIN:VEVENT
SUMMARY:Swingmatism-In the Atrium
DESCRIPTION:The jazz group\, Swingmatism\, returns to the Bangor Public 
 Library with this special performance. Swingmatism is led by saxophonist
  Jay Bregman and features a repertoire ranging from swing to bebop to co
 ol and modal jazz.\n\nIn addition to Bregman\, the group includes Brian 
 Nadeau on trumpet\, Lincoln Blake on piano\, David Clarke on guitar\, Bo
 b Roman on bass\, Tom Oldakowski on drums\, and Jim Frick on vocals.
URL;VALUE=URI:https://downtownbangor.com/events/swingmatism-in-the-atriu
 m/
UID:urn:uuid:cce94a3c-96a9-4fa9-8f4e-a78347222760
STATUS:CONFIRMED
ORGANIZER:
DTSTAMP:20260424T132211Z
DTSTART;TZID=America/New_York:20241002T180000
DTEND;TZID=America/New_York:20241002T194500
LOCATION:Bangor Public Library
END:VEVENT
END:VCALENDAR