BEGIN:VCALENDAR
METHOD:PUBLISH
VERSION:2.0
CALSCALE:GREGORIAN
PRODID:-//NONSGML Sandhills Development\, LLC//NONSGML Sugar Calendar Fe
 eds v3.6.6//EN
X-WR-CALNAME:Serenity in Activity: An Introduction to Tai Chi Chuan
X-WR-CALDESC:Bangor Downtown
X-WR-TIMEZONE:America/New_York
BEGIN:VTIMEZONE
TZID:America/New_York
BEGIN:DAYLIGHT
TZOFFSETFROM:-0500
TZOFFSETTO:-0400
DTSTART:20260308T070000
TZNAME:EDT
END:DAYLIGHT
END:VTIMEZONE
BEGIN:VTIMEZONE
TZID:America/New_York
BEGIN:DAYLIGHT
TZOFFSETFROM:-0500
TZOFFSETTO:-0400
DTSTART:20260308T070000
TZNAME:EDT
END:DAYLIGHT
END:VTIMEZONE
BEGIN:VEVENT
SUMMARY:Serenity in Activity: An Introduction to Tai Chi Chuan
DESCRIPTION:In a world that often pulls us toward extremes\, this worksh
 op invites you to explore a different way—cultivating steadiness\, pre
 sence\, and ease from within.\n\nTogether\, we’ll step into the founda
 tions of Tai Chi Chuan\, an ancient moving practice rooted in balance\, 
 flow\, and embodied awareness. You’ll be introduced to its history\, p
 hilosophy\, and symbolism\, while learning elements of the Short Yang Fo
 rm through guided\, accessible instruction.\nTai Chi is often described 
 as meditation in motion. Through slow\, intentional movement\, we begin 
 to quiet the mind\, soften tension\, and reconnect with a sense of inter
 nal harmony—even in the midst of activity.\n\nThis workshop is open to
  all levels. Whether you’re new to movement practices or have experien
 ce with yoga\, dance\, or mindfulness\, you’ll be supported in moving 
 at your own pace and discovering what feels grounded and sustainable in 
 your body.\n\nCome as you are.\nSlow down.\nFind serenity—right in the
  middle of it all.\n\n$44 Scholarships and Accessible Pricing available.
URL;VALUE=URI:https://downtownbangor.com/events/serenity-in-activity-an-
 introduction-to-tai-chi-chuan/
UID:urn:uuid:deb36f6a-b404-4037-8f56-5b052e48fa2f
STATUS:CONFIRMED
ORGANIZER:
DTSTAMP:20260425T121715Z
DTSTART;TZID=America/New_York:20260517T140000
DTEND;TZID=America/New_York:20260517T160000
LOCATION:16 State Street
END:VEVENT
END:VCALENDAR