BEGIN:VCALENDAR
METHOD:PUBLISH
VERSION:2.0
CALSCALE:GREGORIAN
PRODID:-//NONSGML Sandhills Development\, LLC//NONSGML Sugar Calendar Fe
 eds v3.6.6//EN
X-WR-CALNAME:Queer Anime Night
X-WR-CALDESC:Bangor Downtown
X-WR-TIMEZONE:America/New_York
BEGIN:VTIMEZONE
TZID:America/New_York
BEGIN:DAYLIGHT
TZOFFSETFROM:-0500
TZOFFSETTO:-0400
DTSTART:20240310T070000
TZNAME:EDT
END:DAYLIGHT
END:VTIMEZONE
BEGIN:VTIMEZONE
TZID:America/New_York
BEGIN:DAYLIGHT
TZOFFSETFROM:-0500
TZOFFSETTO:-0400
DTSTART:20240310T070000
TZNAME:EDT
END:DAYLIGHT
END:VTIMEZONE
BEGIN:VEVENT
SUMMARY:Queer Anime Night
DESCRIPTION:Join us at Queen City Cinema Club to watch ~5 episodes of a 
 queer anime series! QCCC has amazing food &amp\; drinks so come early to
  grab some (:
URL;VALUE=URI:https://downtownbangor.com/events/queer-anime-night/
UID:urn:uuid:5501cdaa-6e0e-4a20-abf2-23ff03baf792
STATUS:CONFIRMED
ORGANIZER:
DTSTAMP:20260421T093403Z
DTSTART;TZID=America/New_York:20240626T180000
DTEND;TZID=America/New_York:20240626T200000
LOCATION:Queen City Cinema Club
END:VEVENT
END:VCALENDAR