BEGIN:VCALENDAR
METHOD:PUBLISH
VERSION:2.0
CALSCALE:GREGORIAN
PRODID:-//NONSGML Sandhills Development\, LLC//NONSGML Sugar Calendar Fe
 eds v3.6.6//EN
X-WR-CALNAME:Play! A Children's Ballet
X-WR-CALDESC:Bangor Downtown
X-WR-TIMEZONE:America/New_York
BEGIN:VTIMEZONE
TZID:America/New_York
BEGIN:DAYLIGHT
TZOFFSETFROM:-0500
TZOFFSETTO:-0400
DTSTART:20260308T070000
TZNAME:EDT
END:DAYLIGHT
END:VTIMEZONE
BEGIN:VTIMEZONE
TZID:America/New_York
BEGIN:DAYLIGHT
TZOFFSETFROM:-0500
TZOFFSETTO:-0400
DTSTART:20260308T070000
TZNAME:EDT
END:DAYLIGHT
END:VTIMEZONE
BEGIN:VEVENT
SUMMARY:Play! A Children's Ballet
DESCRIPTION:Robinson Ballet invites you to PLAY!—an enchanting ballet 
 filled with imagination\, music\, and movement.\nThis family-friendly pe
 rformance features the beloved tale Peter and the Wolf\, brought to life
  through expressive choreography\, vibrant storytelling\, and enchanting
  characters. Perfect for audiences of all ages\, PLAY! invites you to re
 discover the magic of childhood wonder as dancers embody the playful spi
 rit of adventure in a lush\, storybook setting.\nJoin us at The Gracie T
 heatre on May 16 &amp\; 17 at 3 PM for an afternoon of joy\, creativity\
 , and unforgettable performance.\nTickets are non-refundable and are ava
 ilable at robinsonballet.org or at the door.\nThis production is made po
 ssible with the support of the City of Bangor's Cultural Commission.
URL;VALUE=URI:https://downtownbangor.com/events/play-a-childrens-ballet-
 2/
UID:urn:uuid:3eabd7a3-2423-482c-81cf-080aaaef79da
STATUS:CONFIRMED
ORGANIZER:
DTSTAMP:20260424T021634Z
DTSTART;TZID=America/New_York:20260517T150000
DTEND;TZID=America/New_York:20260517T160000
LOCATION:1 College Circle
END:VEVENT
END:VCALENDAR