BEGIN:VCALENDAR
METHOD:PUBLISH
VERSION:2.0
CALSCALE:GREGORIAN
PRODID:-//NONSGML Sandhills Development\, LLC//NONSGML Sugar Calendar Fe
 eds v3.6.6//EN
X-WR-CALNAME:Plaid Friday in Downtown Bangor
X-WR-CALDESC:Bangor Downtown
X-WR-TIMEZONE:America/New_York
BEGIN:VTIMEZONE
TZID:America/New_York
BEGIN:STANDARD
TZOFFSETFROM:-0400
TZOFFSETTO:-0500
DTSTART:20231105T060000
TZNAME:EST
END:STANDARD
END:VTIMEZONE
BEGIN:VTIMEZONE
TZID:America/New_York
BEGIN:STANDARD
TZOFFSETFROM:-0400
TZOFFSETTO:-0500
DTSTART:20231105T060000
TZNAME:EST
END:STANDARD
END:VTIMEZONE
BEGIN:VEVENT
SUMMARY:Plaid Friday in Downtown Bangor
DESCRIPTION:This year\, holiday shoppers can avoid the lines\, stress\, 
 and the hunting for parking spots that come with the typical retail plac
 es on the Friday and Saturday after Thanksgiving.\n\n\n\nInstead\, sleep
  in and join us in Downtown Bangor for our Plaid Friday and Small Busine
 ss Saturday shopping alternatives.\n\n\n\nThe name Plaid Friday celebrat
 es the diversity and creativity of independent businesses. Plaid Friday 
 is the fun and enjoyable alternative to the big box store "Black Friday"
 \, and is designed to promote both local and independently owned busines
 ses during the holidays.\n\n\n\nHelp us celebrate by wearing plaid while
  shopping in Downtown on Friday\, November 24th.\n\n\n\nList of particip
 ating Plaid Friday businesses:\n\n\n\nCentral Street Farmhouse :: 10% of
 f (almost) everything if you are wearing plaid&nbsp\;\n\n\n\nOne Lupine 
 Fiber Arts :: Anyone wearing plaid can enter to win a $40.00 Gift Cert\,
  flash specials throughout both shops all day &amp\; free homemade cooki
 es. And\, as ever\, FREE gift wrapping.\n\n\n\nThe Rock &amp\; Art Shop 
 ::&nbsp\;Wear plaid get 10% off!\n\n\n\nMexicali Blues ::&nbsp\;25% off 
 with an extra 10% off on purchases over $100\n\n\n\nPalomas Gifts ::&nbs
 p\;10% of a purchase up to $50 and 15% off if it’s over $50. Personali
 zed stockings for just $15. Free gift for our first 100 customers. This 
 will go on for Friday\, Saturday and Sunday. Also we will be adding a 10
 % to every gift card sale!!\n\n\n\nBangor Haberdashery ::&nbsp\;10% off 
 entire purchase if wearing plaid - or - Plaid fabric is 25% off all Nove
 mber - buy 3 yards of plaid on Plaid Friday and the 25% off extends to t
 he entire purchase\n\n\n\nBangor Public Library ::&nbsp\;Stop by the lib
 rary for a special pin celebrating an upcoming visit by Babe the Blue Ox
  in January.\n\n\n\nTop Shelf Comics Bangor ::&nbsp\;20% off all value p
 acks\, hardcover novels\, and trade paperback novels&nbsp\;\n\n\n\nThe S
 piral Goddess Collective :: Spiral Flow Yoga from 10 to 11:15 and Tea an
 d Transformative Talk from 11:30 to 12:30.\n\n\n\nTop of the Nine ::&nbs
 p\;Open gallery with tons of local art for sale\, free snacks and hot ci
 der\n\n\n\nGrayce Bridal &amp\; Formal ::&nbsp\;$39 Bridesmaid Sample Dr
 esses\, Up to 40% off Wedding Gowns *by appointment*\, Up to 40% off For
 mal Gowns\, Bridal Accessories 15% off\n\n\n\nNocturnem Draft Haus ::&nb
 sp\;10% off entire bill&nbsp\;if wearing plaid on Friday. Open 4-11pm.\n
 \n\n\nRebecca's ::&nbsp\;20% off Christmas ornaments\, 20% off jar candl
 es\n\n\n\nChimera Coffee ::&nbsp\;All day Grumpy hour ($2 16oz brewed)\;
 -15% off coffee brewing equipment\;&nbsp\;Coffee with Creatives as well 
 as Tarot readings by Char of @boo_bangor_tarot\n\n\n\nCity Drawers :: Fr
 ee Gift Wrapping with any purchase\n\n\n\nThe Briar Patch ::&nbsp\;Wear 
 plaid for 10% off your purchase. Restrictions apply — details in store
 .\n\n\n\nBangor Region Chamber of Commerce :: Free Gift Wrapping at the
  Chamber Office! Grab a cookie!
URL;VALUE=URI:https://downtownbangor.com/events/plaid-friday-in-downtown
 -bangor/
UID:urn:uuid:beff25dc-635d-4e59-a5a1-f9be4fb1e3f7
STATUS:CONFIRMED
ORGANIZER:
DTSTAMP:20260422T115346Z
DTSTART;TZID=America/New_York:20231124T100000
DTEND;TZID=America/New_York:20231124T100000
END:VEVENT
END:VCALENDAR