BEGIN:VCALENDAR
METHOD:PUBLISH
VERSION:2.0
CALSCALE:GREGORIAN
PRODID:-//NONSGML Sandhills Development\, LLC//NONSGML Sugar Calendar Fe
 eds v3.6.6//EN
X-WR-CALNAME:PBR: Pendleton Whisky Velocity Tour
X-WR-CALDESC:Bangor Downtown
X-WR-TIMEZONE:America/New_York
BEGIN:VTIMEZONE
TZID:America/New_York
BEGIN:STANDARD
TZOFFSETFROM:-0400
TZOFFSETTO:-0500
DTSTART:20251102T060000
TZNAME:EST
END:STANDARD
END:VTIMEZONE
BEGIN:VTIMEZONE
TZID:America/New_York
BEGIN:STANDARD
TZOFFSETFROM:-0400
TZOFFSETTO:-0500
DTSTART:20251102T060000
TZNAME:EST
END:STANDARD
END:VTIMEZONE
BEGIN:VEVENT
SUMMARY:PBR: Pendleton Whisky Velocity Tour
DESCRIPTION:Building upon a decade of bringing Bangor the most thrilling
  8 seconds in sports\, PBR’s (Professional Bull Riders) Pendleton Whis
 ky Velocity Tour series bucks into the city for the 11th-straight year.\
 n\nThe 2026 three-day event at Cross Insurance Center kickstarts the new
  year\, January 2 – 4 as the action plays out through four rounds to c
 rown a new champion. The bull riding action starts at 8 p.m. ET on Frida
 y\, 7 p.m. ET Saturday\, and 2 p.m. ET Sunday.\n\nTop bull riders in the
  sport will be battling for crucial Velocity Global points in Bangor. Ve
 locity Global points contribute to the Velocity Global Standings and det
 ermine which PBR riders are added to the Unleash The Beast tour througho
 ut the season in addition to qualifications for the PBR World Finals in 
 May 2026.\n\nWhen PBR last came to Bangor in 2025\, Dawson Gleaves\, a 2
 4-year-old cowboy from Texas\, claimed the event title with an aggregate
  score of 242.5.\n\nOver the course of the event\, 40 riders will appear
  in all three of the initial rounds\, taking on some of the sport’s to
 ughest bulls. After three rounds\, the top 10 riders with the highest ag
 gregate scores ride for a chance at the title.\n\nPBR Elite Seats are av
 ailable for avid fans who want an exclusive VIP experience while enjoyin
 g the world’s top bull riding circuit. These tickets\, available in tw
 o tiers\, offer premium seats\, personal on-site concierge at the PBR fa
 n loyalty booth\, and more. For more on elite seats\, visit https://pbr.
 com/elite-seats-unleash-the-beast\, or call (800) 732\, 1727.\n\nStay tu
 ned to PBR.com for the full 2026 Velocity Tour schedule announcement alo
 ng with the latest news and results. Be sure to follow the sport on all 
 social media platforms at @PBR.\n\nEVENT FAST FACTS\n\n750 tons of dirt 
 (1.5 million pounds) are brought in to transform Cross Insurance Center 
 into a bull-riding mecca.\nThe dirt is a special clay-sand blend establi
 shing a firm enough surface for the bulls to buck hard but soft enough s
 o that every rider is not injured when thrown like a rag doll.\nIt takes
  7 semi-trucks to haul in the equipment for the event.\nA crew of about 
 30 works around the clock to prepare the venue.\nOver 75 of the rankest 
 bucking bulls on the planet will be on site.\nPBR bulls are remarkable a
 nimal athletes born to buck. Each is a member of a special breed: The Am
 erican Bucking Bull.\nBy virtue of competing in PBR\, they get the best 
 food and care\, avoiding a very brief career in the meat packing industr
 y.\nThe average PBR bull weighs 1\,800 pounds.\nThe average bull rider? 
 Just 140 lbs.\n\nAbout the PBR (Professional Bull Riders) Pendleton Whis
 ky Velocity Tour:\n\nThe PBR’s Pendleton Whisky Velocity Tour (PWVT) b
 egan in 2014 as the premier expansion tour for the PBR. The Velocity Tou
 r\, the sport’s fastest-growing tour\, brings the excitement and top-l
 evels of cowboy and bovine talent that fans have come to expect from the
  sport to cities across the United States. The PWVT is proudly supported
  by Pendleton Whisky\, Boot Barn\, Cooper Tires\, Rank 45\, South Point 
 Hotel &amp\; Casino\, Kubota\, the United States Border Patrol\, Silence
 r Shop\, Camping World\, Wal Mart Health and Wellness\, Anheuser Busch\,
  Beatbox Wine and GovX. Every Velocity Tour event is carried live on the
  PBR App and a host of top line providers that carry PBR RidePass – th
 e PBR’s flagship digital network.
URL;VALUE=URI:https://downtownbangor.com/events/pbr-pendleton-whisky-vel
 ocity-tour/
UID:urn:uuid:0e969a77-cb94-4f00-8c43-aadc96f17dc8
STATUS:CONFIRMED
ORGANIZER:
DTSTAMP:20260419T123834Z
DTSTART;TZID=America/New_York:20260102T200000
DTEND;TZID=America/New_York:20260102T230000
LOCATION:515 Main Street Bangor\, Maine
END:VEVENT
END:VCALENDAR