BEGIN:VCALENDAR
METHOD:PUBLISH
VERSION:2.0
CALSCALE:GREGORIAN
PRODID:-//NONSGML Sandhills Development\, LLC//NONSGML Sugar Calendar Fe
 eds v3.6.6//EN
X-WR-CALNAME:Open Stage &amp\; Open House
X-WR-CALDESC:Bangor Downtown
X-WR-TIMEZONE:America/New_York
BEGIN:VTIMEZONE
TZID:America/New_York
BEGIN:STANDARD
TZOFFSETFROM:-0400
TZOFFSETTO:-0500
DTSTART:20251102T060000
TZNAME:EST
END:STANDARD
BEGIN:DAYLIGHT
TZOFFSETFROM:-0500
TZOFFSETTO:-0400
DTSTART:20260308T070000
TZNAME:EDT
END:DAYLIGHT
END:VTIMEZONE
BEGIN:VTIMEZONE
TZID:America/New_York
BEGIN:STANDARD
TZOFFSETFROM:-0400
TZOFFSETTO:-0500
DTSTART:20251102T060000
TZNAME:EST
END:STANDARD
BEGIN:DAYLIGHT
TZOFFSETFROM:-0500
TZOFFSETTO:-0400
DTSTART:20260308T070000
TZNAME:EDT
END:DAYLIGHT
END:VTIMEZONE
BEGIN:VEVENT
SUMMARY:Open Stage &amp\; Open House
DESCRIPTION:Got talent you want to share? Singing\, dancing\, drag\, com
 edy\, anything goes\, bring it to The House of Entertainment and enjoy a
 n evening being part of something exciting.  Sign up to perform or just 
 come support local talent at this alcohol free event.
URL;VALUE=URI:https://downtownbangor.com/events/open-stage-open-house/
UID:urn:uuid:0f91c8d6-686e-410a-9d70-7796ceef2f17
STATUS:CONFIRMED
ORGANIZER:
DTSTAMP:20260422T130637Z
DTSTART;TZID=America/New_York:20260403T190000
DTEND;TZID=America/New_York:20260403T230000
LOCATION:128 Main Street
END:VEVENT
END:VCALENDAR