BEGIN:VCALENDAR
METHOD:PUBLISH
VERSION:2.0
CALSCALE:GREGORIAN
PRODID:-//NONSGML Sandhills Development\, LLC//NONSGML Sugar Calendar Fe
 eds v3.6.6//EN
X-WR-CALNAME:Mount Hope Cemetery Walking Tour
X-WR-CALDESC:Bangor Downtown
X-WR-TIMEZONE:America/New_York
BEGIN:VTIMEZONE
TZID:America/New_York
BEGIN:DAYLIGHT
TZOFFSETFROM:-0500
TZOFFSETTO:-0400
DTSTART:20260308T070000
TZNAME:EDT
END:DAYLIGHT
END:VTIMEZONE
BEGIN:VTIMEZONE
TZID:America/New_York
BEGIN:DAYLIGHT
TZOFFSETFROM:-0500
TZOFFSETTO:-0400
DTSTART:20260308T070000
TZNAME:EDT
END:DAYLIGHT
END:VTIMEZONE
BEGIN:VEVENT
SUMMARY:Mount Hope Cemetery Walking Tour
DESCRIPTION:Learn little known facts about some of Bangor’s famous—a
 nd infamous– residents during our guided tour. Hear about the importan
 ce of symbolism in the gravestones and get a chance to take in some of t
 he city’s beautiful vistas.\n\n\n\nBuilt in 1834\, Bangor’s 300 acre
  Mount Hope Cemetery is the nation’s second oldest garden cemetery. It
  was designed by renowned architect Charles G. Bryant as part of a natio
 nal movement to provide respite from grassless urban landscapes. Garden 
 cemeteries were created as much for living as for those who had passed o
 n.\n\n\n\nThis tour meets at the Superintendent’s Lodge at Mt. Hope Ce
 metery\, 1048 State Street\, Bangor.Tickets are $12 per person.\n\n\n\nI
 n case of inclement weather\, tours will be cancelled if chance of thund
 erstorms\, but not if just rain in forecast.\n\n\n\nTickets must be purc
 hased ahead of time.Tickets may be purchased for a 6PM until Noon on the
  day of the tour. Tickets may be purchased for a 10AM tour until 6PM the
  previous evening.\n\n\n\nTo purchase tickets\, please visit: https://ba
 ngorhistoricalsociety.org/events/Our tours will be capped at 25 guests.
URL;VALUE=URI:https://downtownbangor.com/events/mount-hope-cemetery-walk
 ing-tour-7-5-2/
UID:urn:uuid:57a9cf61-d87a-4187-826b-d5f6ab3a84d0
STATUS:CONFIRMED
ORGANIZER:
DTSTAMP:20260425T133745Z
DTSTART;TZID=America/New_York:20260716T180000
DTEND;TZID=America/New_York:20260716T193000
LOCATION:1048 State Streeet
END:VEVENT
END:VCALENDAR