BEGIN:VCALENDAR
METHOD:PUBLISH
VERSION:2.0
CALSCALE:GREGORIAN
PRODID:-//NONSGML Sandhills Development\, LLC//NONSGML Sugar Calendar Fe
 eds v3.6.6//EN
X-WR-CALNAME:Moms &amp\; Margs Mixology Lesson
X-WR-CALDESC:Bangor Downtown
X-WR-TIMEZONE:America/New_York
BEGIN:VTIMEZONE
TZID:America/New_York
BEGIN:DAYLIGHT
TZOFFSETFROM:-0500
TZOFFSETTO:-0400
DTSTART:20260308T070000
TZNAME:EDT
END:DAYLIGHT
END:VTIMEZONE
BEGIN:VTIMEZONE
TZID:America/New_York
BEGIN:DAYLIGHT
TZOFFSETFROM:-0500
TZOFFSETTO:-0400
DTSTART:20260308T070000
TZNAME:EDT
END:DAYLIGHT
END:VTIMEZONE
BEGIN:VEVENT
SUMMARY:Moms &amp\; Margs Mixology Lesson
DESCRIPTION:Raising The Bar is coming to DREAM at 98 Central St\, Bangor
 \, Maine on Friday May 22nd for a "Moms And Margs" Mixology lesson from 
 6PM-8PM! Drop off the kids and pick up your girls for a Mom's Night Out 
 of sipping and shopping!\n\n\n\nBring your favorite liquors and Payge\, 
 the owner of Raising The Bar\, will guide you step by step on how to cra
 ft a flight of margaritas AND a lemon drop martini.\n\n\n\nTickets are $
 55 per person\, this includes 1 margarita flight\, 1 lemon drop martini 
 and 1 keychain from DREAM! You MUST purchase a ticket in advance. There 
 will be no sales at the door or day of.All tickets are final.\n\n\n\nFri
  May 22\, 2026 • 6PM-8PM • $55www.DreamInGoldJewelry.com
URL;VALUE=URI:https://downtownbangor.com/events/moms-margs-mixology-less
 on/
UID:urn:uuid:9c6ddf0b-c975-4331-9bfb-706ae51e7813
STATUS:CONFIRMED
ORGANIZER:
DTSTAMP:20260424T101629Z
DTSTART;TZID=America/New_York:20260522T180000
DTEND;TZID=America/New_York:20260522T200000
LOCATION:98 Central St
END:VEVENT
END:VCALENDAR