BEGIN:VCALENDAR
METHOD:PUBLISH
VERSION:2.0
CALSCALE:GREGORIAN
PRODID:-//NONSGML Sandhills Development\, LLC//NONSGML Sugar Calendar Fe
 eds v3.6.6//EN
X-WR-CALNAME:Maine is Weird
X-WR-CALDESC:Bangor Downtown
X-WR-TIMEZONE:America/New_York
BEGIN:VTIMEZONE
TZID:America/New_York
BEGIN:STANDARD
TZOFFSETFROM:-0400
TZOFFSETTO:-0500
DTSTART:20251102T060000
TZNAME:EST
END:STANDARD
BEGIN:DAYLIGHT
TZOFFSETFROM:-0500
TZOFFSETTO:-0400
DTSTART:20260308T070000
TZNAME:EDT
END:DAYLIGHT
END:VTIMEZONE
BEGIN:VTIMEZONE
TZID:America/New_York
BEGIN:STANDARD
TZOFFSETFROM:-0400
TZOFFSETTO:-0500
DTSTART:20251102T060000
TZNAME:EST
END:STANDARD
BEGIN:DAYLIGHT
TZOFFSETFROM:-0500
TZOFFSETTO:-0400
DTSTART:20260308T070000
TZNAME:EDT
END:DAYLIGHT
END:VTIMEZONE
BEGIN:VEVENT
SUMMARY:Maine is Weird
DESCRIPTION:Join us on Earth Day as Bob Duchesne will present “Maine i
 s Weird\,” a detailed explanation of why Maine and its forest look the
  way they do.\n\n\n\nThe state’s geology\, geography\, and history are
  vastly different from those of other states\, which explains why so man
 y birds come here. In fact\, due to these historical quirks\, Maine rema
 ins the most-forested state in the nation. The Top Ten Reasons Maine is 
 Weird will surprise even most Mainers.\n\n\n\nDuchesne is a former state
  legislator and radio show host who started his own bird guiding busines
 s\, Maine Birding Trail. He served on environment-oriented committees wh
 ile serving the state and writes a birding column for the Bangor Daily N
 ews.
URL;VALUE=URI:https://downtownbangor.com/events/maine-is-weird/
UID:urn:uuid:22431a34-c4c4-4a0a-be14-26c5dfcb584d
STATUS:CONFIRMED
ORGANIZER:
DTSTAMP:20260420T052426Z
DTSTART;TZID=America/New_York:20260422T180000
DTEND;TZID=America/New_York:20260422T190000
LOCATION:145 Harlow St
END:VEVENT
END:VCALENDAR