BEGIN:VCALENDAR
METHOD:PUBLISH
VERSION:2.0
CALSCALE:GREGORIAN
PRODID:-//NONSGML Sandhills Development\, LLC//NONSGML Sugar Calendar Fe
 eds v3.6.6//EN
X-WR-CALNAME:Leonard Lecture Series Presents: John Bailly
X-WR-CALDESC:Bangor Downtown
X-WR-TIMEZONE:America/New_York
BEGIN:VTIMEZONE
TZID:America/New_York
BEGIN:DAYLIGHT
TZOFFSETFROM:-0400
TZOFFSETTO:-0400
DTSTART:20250417T053000
TZNAME:EDT
END:DAYLIGHT
END:VTIMEZONE
BEGIN:VTIMEZONE
TZID:America/New_York
BEGIN:DAYLIGHT
TZOFFSETFROM:-0400
TZOFFSETTO:-0400
DTSTART:20250417T053000
TZNAME:EDT
END:DAYLIGHT
END:VTIMEZONE
BEGIN:VEVENT
SUMMARY:Leonard Lecture Series Presents: John Bailly
DESCRIPTION:Join us at the Zillman Art Museum for a PowerPoint lecture t
 itled A Global Journey through Drawings with featured artist John Bailly
 . The artist will talk about his process\, inspiration\, and journeys ar
 ound the globe.\n\n\n\nThis event is free and open to the public. Light 
 refreshments from 5:30-6 and presentation from 6-7.
URL;VALUE=URI:https://downtownbangor.com/events/leonard-lecture-series-p
 resents-john-bailly/
UID:urn:uuid:b84299a5-28be-4258-8949-10739b017524
STATUS:CONFIRMED
ORGANIZER:
DTSTAMP:20260422T115239Z
DTSTART;TZID=America/New_York:20251016T173000
DTEND;TZID=America/New_York:20251016T190000
LOCATION:40 Harlow St
END:VEVENT
END:VCALENDAR