BEGIN:VCALENDAR
METHOD:PUBLISH
VERSION:2.0
CALSCALE:GREGORIAN
PRODID:-//NONSGML Sandhills Development\, LLC//NONSGML Sugar Calendar Fe
 eds v3.6.6//EN
X-WR-CALNAME:Just Us Live at The Sound Stage Lounge
X-WR-CALDESC:Bangor Downtown
X-WR-TIMEZONE:America/New_York
BEGIN:VTIMEZONE
TZID:America/New_York
BEGIN:STANDARD
TZOFFSETFROM:-0400
TZOFFSETTO:-0500
DTSTART:20251102T060000
TZNAME:EST
END:STANDARD
BEGIN:DAYLIGHT
TZOFFSETFROM:-0500
TZOFFSETTO:-0400
DTSTART:20260308T070000
TZNAME:EDT
END:DAYLIGHT
END:VTIMEZONE
BEGIN:VTIMEZONE
TZID:America/New_York
BEGIN:STANDARD
TZOFFSETFROM:-0400
TZOFFSETTO:-0500
DTSTART:20251102T060000
TZNAME:EST
END:STANDARD
BEGIN:DAYLIGHT
TZOFFSETFROM:-0500
TZOFFSETTO:-0400
DTSTART:20260308T070000
TZNAME:EDT
END:DAYLIGHT
END:VTIMEZONE
BEGIN:VEVENT
SUMMARY:Just Us Live at The Sound Stage Lounge
DESCRIPTION:Just Us will be playing live at The Sound Stage Lounge on Ma
 y 2nd!
URL;VALUE=URI:https://downtownbangor.com/events/just-us-live-at-the-soun
 d-stage-lounge/
UID:urn:uuid:a86cd165-2d3b-4359-a580-9a8fa26dd6be
STATUS:CONFIRMED
ORGANIZER:
DTSTAMP:20260422T130711Z
DTSTART;TZID=America/New_York:20260502T200000
DTEND;TZID=America/New_York:20260502T220000
LOCATION:500 Main Street
END:VEVENT
END:VCALENDAR