BEGIN:VCALENDAR
METHOD:PUBLISH
VERSION:2.0
CALSCALE:GREGORIAN
PRODID:-//NONSGML Sandhills Development\, LLC//NONSGML Sugar Calendar Fe
 eds v3.6.6//EN
X-WR-CALNAME:Jane's Walk: The Ghosts of the Bangor Opera House
X-WR-CALDESC:Bangor Downtown
X-WR-TIMEZONE:America/New_York
BEGIN:VTIMEZONE
TZID:America/New_York
BEGIN:STANDARD
TZOFFSETFROM:-0400
TZOFFSETTO:-0500
DTSTART:20251102T060000
TZNAME:EST
END:STANDARD
BEGIN:DAYLIGHT
TZOFFSETFROM:-0500
TZOFFSETTO:-0400
DTSTART:20260308T070000
TZNAME:EDT
END:DAYLIGHT
END:VTIMEZONE
BEGIN:VTIMEZONE
TZID:America/New_York
BEGIN:STANDARD
TZOFFSETFROM:-0400
TZOFFSETTO:-0500
DTSTART:20251102T060000
TZNAME:EST
END:STANDARD
BEGIN:DAYLIGHT
TZOFFSETFROM:-0500
TZOFFSETTO:-0400
DTSTART:20260308T070000
TZNAME:EDT
END:DAYLIGHT
END:VTIMEZONE
BEGIN:VEVENT
SUMMARY:Jane's Walk: The Ghosts of the Bangor Opera House
DESCRIPTION:Join PTC Artistic Director\, Jen Shepard\, for a tour of The
  Bangor Opera House. Penobscot Theatre Company is the current resident o
 f the Opera House and host to three ghosts that haunt the historic build
 ing. Get a glimpse behind the scenes and into the history of a Neo-Egypt
 ian Art Deco gem in the heart of Downtown Bangor.\n\n\n\nCheck out Bango
 r's other walks: Reimaging Urban Renewal: 60 Years of Change in Downtown
  Bangor Entry Point to the World: An Exploration of Maritime Bangor\n\n\
 n\nFor more information about Jane's Walk\, visit https://www.maineprese
 rvation.org/janes-walk-me
URL;VALUE=URI:https://downtownbangor.com/events/janes-walk-the-ghosts-of
 -the-bangor-opera-house/
UID:urn:uuid:3d04eb83-9868-480f-aedb-3bed29341872
STATUS:CONFIRMED
ORGANIZER:
DTSTAMP:20260424T102615Z
DTSTART;TZID=America/New_York:20260502T113000
DTEND;TZID=America/New_York:20260502T123000
LOCATION:131 Main Street
END:VEVENT
END:VCALENDAR