BEGIN:VCALENDAR
METHOD:PUBLISH
VERSION:2.0
CALSCALE:GREGORIAN
PRODID:-//NONSGML Sandhills Development\, LLC//NONSGML Sugar Calendar Fe
 eds v3.6.6//EN
X-WR-CALNAME:Janes Walk: Reimagining Urbanism with Emily Burnham
X-WR-CALDESC:Bangor Downtown
X-WR-TIMEZONE:America/New_York
BEGIN:VTIMEZONE
TZID:America/New_York
BEGIN:STANDARD
TZOFFSETFROM:-0400
TZOFFSETTO:-0500
DTSTART:20251102T060000
TZNAME:EST
END:STANDARD
BEGIN:DAYLIGHT
TZOFFSETFROM:-0500
TZOFFSETTO:-0400
DTSTART:20260308T070000
TZNAME:EDT
END:DAYLIGHT
END:VTIMEZONE
BEGIN:VTIMEZONE
TZID:America/New_York
BEGIN:STANDARD
TZOFFSETFROM:-0400
TZOFFSETTO:-0500
DTSTART:20251102T060000
TZNAME:EST
END:STANDARD
BEGIN:DAYLIGHT
TZOFFSETFROM:-0500
TZOFFSETTO:-0400
DTSTART:20260308T070000
TZNAME:EDT
END:DAYLIGHT
END:VTIMEZONE
BEGIN:VEVENT
SUMMARY:Janes Walk: Reimagining Urbanism with Emily Burnham
DESCRIPTION:Reimaging Urban Renewal: 60 Years of Change in Downtown Bang
 orJoin local writer and Bangor history buff Emily Burnham on a tour thro
 ugh sites throughout downtown Bangor which show the effect Urban Renewal
  - the federally-funded program in the 1960s and 70s that forever change
 d the landscape of the city - still has on the Queen City. Explore both 
 mid-century and contemporary architecture\, as well as what's NOT there 
 and what could be.Check out Bangor's other walks: The Ghosts of the Bang
 or Opera House Entry Point to the World: An Exploration of Maritime Bang
 or\n\n\n\nFor more information about Jane's Walk\, visit https://www.mai
 nepreservation.org/janes-walk-me
URL;VALUE=URI:https://downtownbangor.com/events/janes-walk-reimagining-u
 rbanism-with-emily-burnham/
UID:urn:uuid:3c5f8a51-be72-4d81-8219-76052c3b8e78
STATUS:CONFIRMED
ORGANIZER:
DTSTAMP:20260424T130944Z
DTSTART;TZID=America/New_York:20260502T100000
DTEND;TZID=America/New_York:20260502T110000
LOCATION:33 State Street
END:VEVENT
END:VCALENDAR