BEGIN:VCALENDAR
METHOD:PUBLISH
VERSION:2.0
CALSCALE:GREGORIAN
PRODID:-//NONSGML Sandhills Development\, LLC//NONSGML Sugar Calendar Fe
 eds v3.6.6//EN
X-WR-CALNAME:Jane's Walk Bangor
X-WR-CALDESC:Bangor Downtown
X-WR-TIMEZONE:America/New_York
BEGIN:VTIMEZONE
TZID:America/New_York
BEGIN:STANDARD
TZOFFSETFROM:-0400
TZOFFSETTO:-0500
DTSTART:20251102T060000
TZNAME:EST
END:STANDARD
BEGIN:DAYLIGHT
TZOFFSETFROM:-0500
TZOFFSETTO:-0400
DTSTART:20260308T070000
TZNAME:EDT
END:DAYLIGHT
END:VTIMEZONE
BEGIN:VTIMEZONE
TZID:America/New_York
BEGIN:STANDARD
TZOFFSETFROM:-0400
TZOFFSETTO:-0500
DTSTART:20251102T060000
TZNAME:EST
END:STANDARD
BEGIN:DAYLIGHT
TZOFFSETFROM:-0500
TZOFFSETTO:-0400
DTSTART:20260308T070000
TZNAME:EDT
END:DAYLIGHT
END:VTIMEZONE
BEGIN:VEVENT
SUMMARY:Jane's Walk Bangor
DESCRIPTION:Join Bangor aficionados in three tours of Bangor Maine as pa
 rt of the annual Jane's Walk. The Ghosts of the Bangor Opera House Entry
  Point to the World: An Exploration of Maritime Bangor Reimaging Urban R
 enewal: 60 Years of Change in Downtown Bangor\n\n\n\nWhat is Jane's Walk
 ?Jane’s Walk is a global festival of free\, volunteer-led walking conv
 ersations inspired by community activist Jane Jacobs. Jane’s Walks com
 bine the simple act of exploring a place with personal observations\, lo
 cal history\, and civic engagement.  The annual Jane’s Walk festival
  takes place the first weekend in May\, in more than 500 cities and town
 s around the globe. In 2026\, the walk roster will be available in mid-A
 pril and the festival will be held in Maine on Saturday\, May 2.For mo
 re information visit https://www.mainepreservation.org/janes-walk-me
URL;VALUE=URI:https://downtownbangor.com/events/janes-walk-bangor/
UID:urn:uuid:a2473b0a-f56a-4933-829b-9664ee93ef3b
STATUS:CONFIRMED
ORGANIZER:
DTSTAMP:20260422T150130Z
DTSTART;TZID=America/New_York:20260502T100000
DTEND;TZID=America/New_York:20260502T150000
END:VEVENT
END:VCALENDAR