BEGIN:VCALENDAR
METHOD:PUBLISH
VERSION:2.0
CALSCALE:GREGORIAN
PRODID:-//NONSGML Sandhills Development\, LLC//NONSGML Sugar Calendar Fe
 eds v3.6.6//EN
X-WR-CALNAME:Jane's Walk:  An Exploration of Maritime Bangor
X-WR-CALDESC:Bangor Downtown
X-WR-TIMEZONE:America/New_York
BEGIN:VTIMEZONE
TZID:America/New_York
BEGIN:STANDARD
TZOFFSETFROM:-0400
TZOFFSETTO:-0500
DTSTART:20251102T060000
TZNAME:EST
END:STANDARD
BEGIN:DAYLIGHT
TZOFFSETFROM:-0500
TZOFFSETTO:-0400
DTSTART:20260308T070000
TZNAME:EDT
END:DAYLIGHT
END:VTIMEZONE
BEGIN:VTIMEZONE
TZID:America/New_York
BEGIN:STANDARD
TZOFFSETFROM:-0400
TZOFFSETTO:-0500
DTSTART:20251102T060000
TZNAME:EST
END:STANDARD
BEGIN:DAYLIGHT
TZOFFSETFROM:-0500
TZOFFSETTO:-0400
DTSTART:20260308T070000
TZNAME:EDT
END:DAYLIGHT
END:VTIMEZONE
BEGIN:VEVENT
SUMMARY:Jane's Walk:  An Exploration of Maritime Bangor
DESCRIPTION:Entry Point to the World: An Exploration of Maritime BangorT
 his walk will take place along Bangor’s waterfront and will explore th
 e history and evolution of the waterfront and Bangor’s maritime cultur
 e\, starting with pre-Colonial Native American history and ending at the
  modern day. We will also discuss how different aspects of the waterfron
 t and surrounding development relate to the ideas of Jane Jacobs. The Ch
 air of Bangor’s Historic Preservation Commission (an archaeologist by 
 trade) will be discussing the historical aspects of the walk\, with Bang
 or Planning staff accompanying to provide supporting information about J
 ane Jacobs’ ideas. The walk will be short in distance\, starting at Br
 oad Street Park and end at the intersection of Front Street and Railroad
  Street (about 0.35 miles). Attendees should bring sun protection and wa
 ter.\n\n\n\nCheck out Bangor's other walks: Reimaging Urban Renewal: 60 
 Years of Change in Downtown Bangor The Ghosts of the Bangor Opera House\
 n\n\n\nFor more information about Jane's Walk\, visit https://www.mainep
 reservation.org/janes-walk-me
URL;VALUE=URI:https://downtownbangor.com/events/janes-walk-an-exploratio
 n-of-maritime-bangor/
UID:urn:uuid:3a44f2b1-ea68-4b21-8c64-719862d32d25
STATUS:CONFIRMED
ORGANIZER:
DTSTAMP:20260422T155128Z
DTSTART;TZID=America/New_York:20260502T130000
DTEND;TZID=America/New_York:20260502T140000
LOCATION:200 Broad Street
END:VEVENT
END:VCALENDAR