BEGIN:VCALENDAR
METHOD:PUBLISH
VERSION:2.0
CALSCALE:GREGORIAN
PRODID:-//NONSGML Sandhills Development\, LLC//NONSGML Sugar Calendar Fe
 eds v3.6.6//EN
X-WR-CALNAME:Independent Bookstore Day
X-WR-CALDESC:Bangor Downtown
X-WR-TIMEZONE:America/New_York
BEGIN:VTIMEZONE
TZID:America/New_York
BEGIN:STANDARD
TZOFFSETFROM:-0400
TZOFFSETTO:-0500
DTSTART:20251102T060000
TZNAME:EST
END:STANDARD
BEGIN:DAYLIGHT
TZOFFSETFROM:-0500
TZOFFSETTO:-0400
DTSTART:20260308T070000
TZNAME:EDT
END:DAYLIGHT
END:VTIMEZONE
BEGIN:VTIMEZONE
TZID:America/New_York
BEGIN:STANDARD
TZOFFSETFROM:-0400
TZOFFSETTO:-0500
DTSTART:20251102T060000
TZNAME:EST
END:STANDARD
BEGIN:DAYLIGHT
TZOFFSETFROM:-0500
TZOFFSETTO:-0400
DTSTART:20260308T070000
TZNAME:EDT
END:DAYLIGHT
END:VTIMEZONE
BEGIN:VEVENT
SUMMARY:Independent Bookstore Day
DESCRIPTION:Join us on Independent Bookstore Day on Saturday\, April 25\
 , 2026!!\n\nAND HAVE YOU HEARD?!? The 2026 IBD Book Lover Package is now
  available!!!\nYour 2026 IBD Book Lover Package includes a commemorative
  2026 IBD tote bag ($17.99 value) full of exclusive goodies and a $75 gi
 ft certificate good for in-store purchases.\n\nBook Lover Packages can b
 e picked up anytime after Saturday\, April 25 at 10 am and gift certific
 ates can be used anytime after pickup. These packages are limited and ar
 e available to purchase now!\nAdditional IBD 2026 exclusives will be ava
 ilable first come first served on Saturday\, April 25.
URL;VALUE=URI:https://downtownbangor.com/events/independent-bookstore-da
 y/
UID:urn:uuid:10780f9e-f555-4cd4-b1e7-fa1faeea56ff
STATUS:CONFIRMED
ORGANIZER:
DTSTAMP:20260422T155006Z
DTSTART;VALUE=DATE:20260425
LOCATION:The Briar Patch
END:VEVENT
END:VCALENDAR