BEGIN:VCALENDAR
METHOD:PUBLISH
VERSION:2.0
CALSCALE:GREGORIAN
PRODID:-//NONSGML Sandhills Development\, LLC//NONSGML Sugar Calendar Fe
 eds v3.6.6//EN
X-WR-CALNAME:I Do: Bangor Wedding Show
X-WR-CALDESC:Bangor Downtown
X-WR-TIMEZONE:America/New_York
BEGIN:VTIMEZONE
TZID:America/New_York
BEGIN:STANDARD
TZOFFSETFROM:-0400
TZOFFSETTO:-0500
DTSTART:20251102T060000
TZNAME:EST
END:STANDARD
BEGIN:DAYLIGHT
TZOFFSETFROM:-0500
TZOFFSETTO:-0400
DTSTART:20260308T070000
TZNAME:EDT
END:DAYLIGHT
END:VTIMEZONE
BEGIN:VTIMEZONE
TZID:America/New_York
BEGIN:STANDARD
TZOFFSETFROM:-0400
TZOFFSETTO:-0500
DTSTART:20251102T060000
TZNAME:EST
END:STANDARD
BEGIN:DAYLIGHT
TZOFFSETFROM:-0500
TZOFFSETTO:-0400
DTSTART:20260308T070000
TZNAME:EDT
END:DAYLIGHT
END:VTIMEZONE
BEGIN:VEVENT
SUMMARY:I Do: Bangor Wedding Show
DESCRIPTION:Bangor Wedding Show!Engaged? Planning? Or just starting to d
 ream? The Bangor Wedding Show\, proudly sponsored by Maine Wedding’s 2
 07\, is bringing everything you need to plan your perfect day — all un
 der one roof!\n\n\n\nMeet and connect with:- Wedding &amp\; boudoir phot
 ographers- Stunning wedding venues- Caterers (food + bar services &amp\;
  liquor suppliers)- Live music\, DJs &amp\; Photo Booth experiences- Flo
 rals — both silk &amp\; fresh- Balloon artists &amp\; décor specialis
 ts- Rental companies for tents\, tables\, and statement pieces- Health\,
  beauty\, hair &amp\; nail stylists- Bridal shops &amp\; formal wear exp
 erts- Jewelry artists- Planners &amp\; day-of coordinators- Wedding sign
 age &amp\; graphic artists- Desserts\, baked goods &amp\; sweet treats\n
 \n\n\nSee the setups. Taste the flavors. Hear the music. Experience the 
 creativity.This is your chance to ask questions\, compare options\, gath
 er inspiration\, and book your dream team with confidence.Whether you’
 re newly engaged or finalizing details\, the Bangor Wedding Show is your
  one-stop wedding planning destination.Grab your fiancé\, your bridal p
 arty\, or your mom — and come get inspired!
URL;VALUE=URI:https://downtownbangor.com/events/i-do-bangor-wedding-show
 /
UID:urn:uuid:400a1694-726e-41b2-b3ce-c4cf36ef3aa9
STATUS:CONFIRMED
ORGANIZER:
DTSTAMP:20260424T033954Z
DTSTART;TZID=America/New_York:20260404T110000
DTEND;TZID=America/New_York:20260404T150000
LOCATION:515 Main Street Bangor\, Maine
END:VEVENT
END:VCALENDAR