BEGIN:VCALENDAR
METHOD:PUBLISH
VERSION:2.0
CALSCALE:GREGORIAN
PRODID:-//NONSGML Sandhills Development\, LLC//NONSGML Sugar Calendar Fe
 eds v3.6.6//EN
X-WR-CALNAME:HARDY with special guests Koe Wetzel\, Sikarus &amp\; Steph
 en Wilson Jr.
X-WR-CALDESC:Bangor Downtown
X-WR-TIMEZONE:America/New_York
BEGIN:VTIMEZONE
TZID:America/New_York
BEGIN:DAYLIGHT
TZOFFSETFROM:-0500
TZOFFSETTO:-0400
DTSTART:20250309T070000
TZNAME:EDT
END:DAYLIGHT
END:VTIMEZONE
BEGIN:VTIMEZONE
TZID:America/New_York
BEGIN:DAYLIGHT
TZOFFSETFROM:-0500
TZOFFSETTO:-0400
DTSTART:20250309T070000
TZNAME:EDT
END:DAYLIGHT
END:VTIMEZONE
BEGIN:VEVENT
SUMMARY:HARDY with special guests Koe Wetzel\, Sikarus &amp\; Stephen Wi
 lson Jr.
DESCRIPTION:ountry rock superstar HARDY will embark on the Jim Bob World
  Tour this May\, headlining arenas and amphitheaters across the U.S. thr
 ough September\, plus festival dates in North America and festivals and 
 first-ever headline shows in Europe.  Fresh off the heels of his first e
 ver live album\,&nbsp\;HARDY (Live From Red Rocks)\, the tour continues 
 a monumental run for HARDY. In 2024\, he released his #1 LP&nbsp\;Quit!!
 \; toured across North America\, including his first stadium show\, a he
 adline set at CMA Fest and many more\; collaborated with heroes Fred Dur
 st and Chad Smith\; appeared on&nbsp\;The Tonight Show Starring Jimmy Fa
 llon&nbsp\;and&nbsp\;Jimmy Kimmel Live!\; hit 15 #1 songs\; blew past si
 x billion career streams and so much more.\n\n\n\nThe pride of Philadelp
 hia\, Mississippi has earned his reputation as “a promising purveyor o
 f keeping the spirit of classic heavy Southern rock alive” (American S
 ongwriter)\, “capable of writing the big hits for radio\, obstinate en
 ough to do something completely unexpected\, and savvy enough to find th
 e throughline for it all” (Rolling Stone). A five-time ACM award winne
 r and two-time CMA award winner\, HARDY has also won three CMA Triple Pl
 ay awards\, was named the 2022 BMI Country Songwriter of the Year and is
  a three-time AIMP Songwriter of the Year.\n\n\n\nHis 2023 breakout&nbsp
 \;the mockingbird &amp\; THE CROW&nbsp\;and its 2024 follow up&nbsp\;Qui
 t!!&nbsp\;have topped countless&nbsp\;Billboard&nbsp\;charts\, including
  a top 5 debut on the&nbsp\;Billboard&nbsp\;200\, and racked up six bill
 ion streams. HARDY has written 15 #1 singles including his own two-times
  Platinum chart topper “One Beer” featuring Lauren Alaina and Devin 
 Dawson\, the platinum Dierks Bentley and BRELAND collaboration “Beers 
 On Me\,” game-changing two-times Platinum duet “wait in the truck”
  feat. Lainey Wilson and first-ever rock radio #1 “JACK.” He’s col
 laborated and shared stages with Thomas Rhett\, Morgan Wallen\, Florida 
 Georgia Line\, Jason Aldean\, Cole Swindell and more.
URL;VALUE=URI:https://downtownbangor.com/events/hardy-with-special-guest
 s-koe-wetzel-sikarus-stephen-wilson-jr/
UID:urn:uuid:dfa1d636-eaa6-4b29-a04f-c58d08db109c
STATUS:CONFIRMED
ORGANIZER:
DTSTAMP:20260424T102624Z
DTSTART;TZID=America/New_York:20250829T183000
DTEND;TZID=America/New_York:20250829T183000
LOCATION:1 Railroad Street
END:VEVENT
END:VCALENDAR