BEGIN:VCALENDAR
METHOD:PUBLISH
VERSION:2.0
CALSCALE:GREGORIAN
PRODID:-//NONSGML Sandhills Development\, LLC//NONSGML Sugar Calendar Fe
 eds v3.6.6//EN
X-WR-CALNAME:Grand Opening of the Downtown Spot Ribbon Cutting
X-WR-CALDESC:Bangor Downtown
X-WR-TIMEZONE:America/New_York
BEGIN:VTIMEZONE
TZID:America/New_York
BEGIN:STANDARD
TZOFFSETFROM:-0400
TZOFFSETTO:-0500
DTSTART:20251102T060000
TZNAME:EST
END:STANDARD
END:VTIMEZONE
BEGIN:VTIMEZONE
TZID:America/New_York
BEGIN:STANDARD
TZOFFSETFROM:-0400
TZOFFSETTO:-0500
DTSTART:20251102T060000
TZNAME:EST
END:STANDARD
END:VTIMEZONE
BEGIN:VEVENT
SUMMARY:Grand Opening of the Downtown Spot Ribbon Cutting
DESCRIPTION:Join us for the Grand Opening of The Downtown Spot\, purveyo
 r of ice cream\, slushies\, and grab an go meals as we cut the ribbon!\n
 \n\n\nTo celebrate\, The Downtown Spot will be having BUY ONE GET ONE ha
 lf off ice cream on Thursday\n\n\n\nThursday\, Friday &amp\; Saturday re
 ceive a raffle ticket for every $10 spent and be entered to win a grand 
 prize float from Float 207 ($80 value)\, a $50 gift card for The Downtow
 n Spot\, and a $25 gift card for Utopia.\n\n\n\nThe runner up will recei
 ve a sauna session from Float 207 ($30 value) and a $25 dollar gift card
  from The Downtown Spot.
URL;VALUE=URI:https://downtownbangor.com/events/grand-opening-of-the-dow
 ntown-spot-ribbon-cutting/
UID:urn:uuid:c5a11d5a-469e-4235-b4ea-ab80fd175602
STATUS:CONFIRMED
ORGANIZER:
DTSTAMP:20260425T165029Z
DTSTART;TZID=America/New_York:20251106T110000
DTEND;TZID=America/New_York:20251106T200000
LOCATION:73 Main Street
END:VEVENT
END:VCALENDAR