BEGIN:VCALENDAR
METHOD:PUBLISH
VERSION:2.0
CALSCALE:GREGORIAN
PRODID:-//NONSGML Sandhills Development\, LLC//NONSGML Sugar Calendar Fe
 eds v3.6.6//EN
X-WR-CALNAME:Get Wild!
X-WR-CALDESC:Bangor Downtown
X-WR-TIMEZONE:America/New_York
BEGIN:VTIMEZONE
TZID:America/New_York
BEGIN:DAYLIGHT
TZOFFSETFROM:-0500
TZOFFSETTO:-0400
DTSTART:20240310T070000
TZNAME:EDT
END:DAYLIGHT
END:VTIMEZONE
BEGIN:VTIMEZONE
TZID:America/New_York
BEGIN:DAYLIGHT
TZOFFSETFROM:-0500
TZOFFSETTO:-0400
DTSTART:20240310T070000
TZNAME:EDT
END:DAYLIGHT
END:VTIMEZONE
BEGIN:VEVENT
SUMMARY:Get Wild!
DESCRIPTION:Get in touch with your wild side this summer with Trisha Smi
 th from Penobscot and Piscataquis 4-H! Create a Nature Notebook to recor
 d your observations and activities in the "wild" of your own neighborhoo
 d. We'll meet weekly at the library for a hands-on activity to inspire y
 our investigations into and connections with the natural world. Stop in 
 once or join us for the whole series! Grades 6-12 only\, please.
URL;VALUE=URI:https://downtownbangor.com/events/get-wild/
UID:urn:uuid:31a5f537-258c-4fee-9297-d6d54be2ff4f
STATUS:CONFIRMED
ORGANIZER:
DTSTAMP:20260423T164215Z
DTSTART;TZID=America/New_York:20240702T150000
DTEND;TZID=America/New_York:20240702T160000
LOCATION:Bangor Public Library
END:VEVENT
END:VCALENDAR