BEGIN:VCALENDAR
METHOD:PUBLISH
VERSION:2.0
CALSCALE:GREGORIAN
PRODID:-//NONSGML Sandhills Development\, LLC//NONSGML Sugar Calendar Fe
 eds v3.6.6//EN
X-WR-CALNAME:FUSION: Bangor Networking at Maine Discovery Museum
X-WR-CALDESC:Bangor Downtown
X-WR-TIMEZONE:America/New_York
BEGIN:VTIMEZONE
TZID:America/New_York
BEGIN:DAYLIGHT
TZOFFSETFROM:-0500
TZOFFSETTO:-0400
DTSTART:20250309T070000
TZNAME:EDT
END:DAYLIGHT
END:VTIMEZONE
BEGIN:VTIMEZONE
TZID:America/New_York
BEGIN:DAYLIGHT
TZOFFSETFROM:-0500
TZOFFSETTO:-0400
DTSTART:20250309T070000
TZNAME:EDT
END:DAYLIGHT
END:VTIMEZONE
BEGIN:VEVENT
SUMMARY:FUSION: Bangor Networking at Maine Discovery Museum
DESCRIPTION:Play. Connect. Discover.\nOn August 21\, FUSION: Bangor is t
 urning the Maine Discovery Museum into the most imaginative networking s
 pace in town.\nProfessionals at Play is your chance to meet fellow mover
 s\, shakers\, and idea-makers while exploring exhibits\, tackling a scav
 enger hunt\, and embracing the kind of creativity we often leave behind 
 in childhood. This is a also a family friendly event\, so please be sure
  to bring the kids and don't forget to register them! Something for ever
 yone!\n🗓️ Thursday\, August 21\, 2025\n🕠 5:30–7:30 PM\n📍 Ma
 ine Discovery Museum\, Bangor\n💼 Sponsored by Bar Harbor Bank &amp\; 
 Trust\n🎟️ RSVP here:\n\nhttps://bangorregioncommunitycouncil.member
 zone.com/events/details/fusion-first-event-8-21-25-220\n\nBring your bus
 iness cards. Bring your curiosity. Maybe even bring the kids.\nThis is n
 etworking with a twist—and a slide.
URL;VALUE=URI:https://downtownbangor.com/events/fusion-bangor-networking
 -at-maine-discovery-museum-2/
UID:urn:uuid:b0f417a8-e559-420f-b7ba-f64d4f397489
STATUS:CONFIRMED
ORGANIZER:
DTSTAMP:20260420T105242Z
DTSTART;TZID=America/New_York:20250821T173000
DTEND;TZID=America/New_York:20250821T193000
LOCATION:Maine Discovery Museum
END:VEVENT
END:VCALENDAR