BEGIN:VCALENDAR
METHOD:PUBLISH
VERSION:2.0
CALSCALE:GREGORIAN
PRODID:-//NONSGML Sandhills Development\, LLC//NONSGML Sugar Calendar Fe
 eds v3.6.6//EN
X-WR-CALNAME:Fire of 1911 Walking Tour
X-WR-CALDESC:Bangor Downtown
X-WR-TIMEZONE:America/New_York
BEGIN:VTIMEZONE
TZID:America/New_York
BEGIN:DAYLIGHT
TZOFFSETFROM:-0500
TZOFFSETTO:-0400
DTSTART:20260308T070000
TZNAME:EDT
END:DAYLIGHT
END:VTIMEZONE
BEGIN:VTIMEZONE
TZID:America/New_York
BEGIN:DAYLIGHT
TZOFFSETFROM:-0500
TZOFFSETTO:-0400
DTSTART:20260308T070000
TZNAME:EDT
END:DAYLIGHT
END:VTIMEZONE
BEGIN:VEVENT
SUMMARY:Fire of 1911 Walking Tour
DESCRIPTION:In April\, 1911 a spark in a streamside hay shed ignited a f
 ire that devastated much of Bangor’s downtown and threatened many of h
 er neighborhoods. Join us as we follow the flames’ path and learn whic
 h structures survived and how Bangor and her people recovered from the d
 evastation.\n\n\n\nThis tour meets at the Bangor Historical Society/Thom
 as A. Hill House\, 159 Union Street\, Bangor.Tickets are $12 per person.
 \n\n\n\nIn case of inclement weather\, tours will be cancelled if there 
 is a chance of thunderstorms\, but not if just rain is in forecast.\n\n\
 n\nTickets must be purchased ahead of time.Tickets may be purchased for 
 a 6PM until Noon on the day of the tour. Tickets may be purchased for a 
 10AM tour until 6PM the previous evening.\n\n\n\nTo purchase tickets\, p
 lease visit: https://bangorhistoricalsociety.org/events/Our tours will b
 e capped at 25 guests.
URL;VALUE=URI:https://downtownbangor.com/events/fire-of-1911-walking-tou
 r-3-2-2-2-2-2-2-2/
UID:urn:uuid:e14e801d-113e-4f5a-944b-1e25351a8378
STATUS:CONFIRMED
ORGANIZER:
DTSTAMP:20260420T065304Z
DTSTART;TZID=America/New_York:20260905T180000
DTEND;TZID=America/New_York:20260905T193000
LOCATION:159 Union Street
END:VEVENT
END:VCALENDAR