BEGIN:VCALENDAR
METHOD:PUBLISH
VERSION:2.0
CALSCALE:GREGORIAN
PRODID:-//NONSGML Sandhills Development\, LLC//NONSGML Sugar Calendar Fe
 eds v3.6.6//EN
X-WR-CALNAME:Fire of 1911: 115 Years Later Walking Tour
X-WR-CALDESC:Bangor Downtown
X-WR-TIMEZONE:America/New_York
BEGIN:VTIMEZONE
TZID:America/New_York
BEGIN:STANDARD
TZOFFSETFROM:-0400
TZOFFSETTO:-0500
DTSTART:20251102T060000
TZNAME:EST
END:STANDARD
BEGIN:DAYLIGHT
TZOFFSETFROM:-0500
TZOFFSETTO:-0400
DTSTART:20260308T070000
TZNAME:EDT
END:DAYLIGHT
END:VTIMEZONE
BEGIN:VTIMEZONE
TZID:America/New_York
BEGIN:STANDARD
TZOFFSETFROM:-0400
TZOFFSETTO:-0500
DTSTART:20251102T060000
TZNAME:EST
END:STANDARD
BEGIN:DAYLIGHT
TZOFFSETFROM:-0500
TZOFFSETTO:-0400
DTSTART:20260308T070000
TZNAME:EDT
END:DAYLIGHT
END:VTIMEZONE
BEGIN:VEVENT
SUMMARY:Fire of 1911: 115 Years Later Walking Tour
DESCRIPTION:We are happy to announce a special tour on Thursday\, April 
 30th at 4pm.\n\n\n\n2026 is the 115th anniversary of Bangor’s Great Fi
 re of 1911. We will be walking the path of the fire from its start and s
 pread to downtown Bangor. Using pictures taken before\, during\, and jus
 t after the fire\, we will see how the city rebuilt and changed after th
 e historic event. The tour will stop inside the Downtown Bangor Welcome 
 Center on Exchange Street to view additional images and artifacts from t
 he Fire.\n\n\n\nThis is a free walking tour for members and $10 for non-
 members. Space is limited to the first 20 registrants.The tour starts in
  Broad Street Park across from Sandollar Spa &amp\; Pool at 193 Broad St
 reet at 4PM. Parking is available on Broad Street.\n\n\n\nTo purchase ti
 ckets\, please visit: https://bangorhistoricalsociety.org/…/fire-of-19
 1-115…/Additional questions or to reserve space\, please call 207-942-
 1900 or email curator@bangorhistoricalsociety.org
URL;VALUE=URI:https://downtownbangor.com/events/fire-of-1911-115-years-l
 ater-walking-tour/
UID:urn:uuid:e86289e8-7ca9-4b3d-bd76-20822c6d4484
STATUS:CONFIRMED
ORGANIZER:
DTSTAMP:20260420T052625Z
DTSTART;TZID=America/New_York:20260430T160000
DTEND;TZID=America/New_York:20260430T173000
END:VEVENT
END:VCALENDAR