BEGIN:VCALENDAR
METHOD:PUBLISH
VERSION:2.0
CALSCALE:GREGORIAN
PRODID:-//NONSGML Sandhills Development\, LLC//NONSGML Sugar Calendar Fe
 eds v3.6.6//EN
X-WR-CALNAME:End of Life Planning: Paperwork and Other Things to Think A
 bout
X-WR-CALDESC:Bangor Downtown
X-WR-TIMEZONE:America/New_York
BEGIN:VTIMEZONE
TZID:America/New_York
BEGIN:STANDARD
TZOFFSETFROM:-0400
TZOFFSETTO:-0500
DTSTART:20251102T060000
TZNAME:EST
END:STANDARD
BEGIN:DAYLIGHT
TZOFFSETFROM:-0500
TZOFFSETTO:-0400
DTSTART:20260308T070000
TZNAME:EDT
END:DAYLIGHT
END:VTIMEZONE
BEGIN:VTIMEZONE
TZID:America/New_York
BEGIN:STANDARD
TZOFFSETFROM:-0400
TZOFFSETTO:-0500
DTSTART:20251102T060000
TZNAME:EST
END:STANDARD
BEGIN:DAYLIGHT
TZOFFSETFROM:-0500
TZOFFSETTO:-0400
DTSTART:20260308T070000
TZNAME:EDT
END:DAYLIGHT
END:VTIMEZONE
BEGIN:VEVENT
SUMMARY:End of Life Planning: Paperwork and Other Things to Think About
DESCRIPTION:Topics that will be covered in this session are:\n\n\n\nHosp
 ice: When and Should I Consider Hospice?\n\n\n\nTricia Clukey is a licen
 sed Social Worker who has been with Northern Light Home Care &amp\; Hosp
 ice for 13 years. I am the Clinical Hospice Supervisor for our Brewer/ B
 angor\, Ellsworth\, and Waterville teams. She will be talking about hosp
 ice services\, the philosophy of hospice\, when it is time for hospice\,
  and how to get a referral for hospice.\n\n\n\nAdvanced Directives: Usin
 g Five Wishes as a template.\n\n\n\nLegal Paperwork: Power of Attorney\,
  Wills\, Living Wills\, Probate\, when to contact a lawyer\, and more.
URL;VALUE=URI:https://downtownbangor.com/events/end-of-life-planning-pap
 erwork-and-other-things-to-think-about/
UID:urn:uuid:a182d464-9d16-485e-aa7d-415a11f60850
STATUS:CONFIRMED
ORGANIZER:
DTSTAMP:20260422T144127Z
DTSTART;TZID=America/New_York:20260421T140000
DTEND;TZID=America/New_York:20260421T150000
LOCATION:145 Harlow St
END:VEVENT
END:VCALENDAR