BEGIN:VCALENDAR
METHOD:PUBLISH
VERSION:2.0
CALSCALE:GREGORIAN
PRODID:-//NONSGML Sandhills Development\, LLC//NONSGML Sugar Calendar Fe
 eds v3.6.6//EN
X-WR-CALNAME:Enchanted Prom - Queer Prom Fundraiser
X-WR-CALDESC:Bangor Downtown
X-WR-TIMEZONE:America/New_York
BEGIN:VTIMEZONE
TZID:America/New_York
BEGIN:STANDARD
TZOFFSETFROM:-0400
TZOFFSETTO:-0500
DTSTART:20251102T060000
TZNAME:EST
END:STANDARD
END:VTIMEZONE
BEGIN:VTIMEZONE
TZID:America/New_York
BEGIN:STANDARD
TZOFFSETFROM:-0400
TZOFFSETTO:-0500
DTSTART:20251102T060000
TZNAME:EST
END:STANDARD
END:VTIMEZONE
BEGIN:VEVENT
SUMMARY:Enchanted Prom - Queer Prom Fundraiser
DESCRIPTION:Step into the Enchanted Forest for Bangor Pride’s Inaugura
 l Queer Prom\, a 21+ magical night celebrating queer joy\, creativity\, 
 and community while supporting Bangor Pride. Wear whatever makes you fee
 l enchanted\, whether that means full fantasy\, glam prom realness\, coz
 y woodland vibes\, or something entirely your own.\n\n\n\nThe first hour
  of the night will be more sensory friendly so everyone can settle in an
 d enjoy the magic. At 9 PM\, show off your look in our costume contest a
 nd compete for bragging rights and prizes.\n\n\n\nA concession stand wil
 l be open with snacks\, popcorn\, candy\, beer\, and canned cocktails to
  keep the party going. Zombie Dogz and Hop House 99 will be open during 
 the event for even more food and drink options. The hotel is ADA accessi
 ble\, and if you want to make a full night of it\, you can book a room t
 o get ready\, party hard\, and then head upstairs to sleep it off in com
 fort.\n\n\n\nTickets available here - tinyurl.com/BangorPrideQueerProm
URL;VALUE=URI:https://downtownbangor.com/events/enchanted-prom-queer-pro
 m-fundraiser/
UID:urn:uuid:ef047679-4bfe-46b5-a7d4-b9690d24bf09
STATUS:CONFIRMED
ORGANIZER:
DTSTAMP:20260423T103836Z
DTSTART;TZID=America/New_York:20260221T190000
DTEND;TZID=America/New_York:20260221T230000
LOCATION:500 Main Street
END:VEVENT
END:VCALENDAR