BEGIN:VCALENDAR
METHOD:PUBLISH
VERSION:2.0
CALSCALE:GREGORIAN
PRODID:-//NONSGML Sandhills Development\, LLC//NONSGML Sugar Calendar Fe
 eds v3.6.6//EN
X-WR-CALNAME:Empty Arms Loss Sibling Story Time
X-WR-CALDESC:Bangor Downtown
X-WR-TIMEZONE:America/New_York
BEGIN:VTIMEZONE
TZID:America/New_York
BEGIN:STANDARD
TZOFFSETFROM:-0400
TZOFFSETTO:-0500
DTSTART:20241103T060000
TZNAME:EST
END:STANDARD
BEGIN:DAYLIGHT
TZOFFSETFROM:-0500
TZOFFSETTO:-0400
DTSTART:20250309T070000
TZNAME:EDT
END:DAYLIGHT
END:VTIMEZONE
BEGIN:VTIMEZONE
TZID:America/New_York
BEGIN:STANDARD
TZOFFSETFROM:-0400
TZOFFSETTO:-0500
DTSTART:20241103T060000
TZNAME:EST
END:STANDARD
BEGIN:DAYLIGHT
TZOFFSETFROM:-0500
TZOFFSETTO:-0400
DTSTART:20250309T070000
TZNAME:EDT
END:DAYLIGHT
END:VTIMEZONE
BEGIN:VEVENT
SUMMARY:Empty Arms Loss Sibling Story Time
DESCRIPTION:Join us for a special story time designed for families and c
 hildren who have experienced pregnancy and infant loss. This gentle gath
 ering will include:\n\n📖 A few short stories\n🎨 A simple craft act
 ivity\n☕ Time to connect over snacks and drinks\n\nThis event is open 
 to all loss families with living siblings of any age.
URL;VALUE=URI:https://downtownbangor.com/events/empty-arms-loss-sibling-
 story-time/
UID:urn:uuid:27330a52-454e-40d6-ac7e-456fdf8eb246
STATUS:CONFIRMED
ORGANIZER:
DTSTAMP:20260420T085028Z
DTSTART;TZID=America/New_York:20250412T100000
DTEND;TZID=America/New_York:20250412T120000
LOCATION:Empty Arms Office
END:VEVENT
END:VCALENDAR