BEGIN:VCALENDAR
METHOD:PUBLISH
VERSION:2.0
CALSCALE:GREGORIAN
PRODID:-//NONSGML Sandhills Development\, LLC//NONSGML Sugar Calendar Fe
 eds v3.6.6//EN
X-WR-CALNAME:Downtown Bangor Trick or Treat
X-WR-CALDESC:Bangor Downtown
X-WR-TIMEZONE:America/New_York
BEGIN:VTIMEZONE
TZID:America/New_York
BEGIN:DAYLIGHT
TZOFFSETFROM:-0400
TZOFFSETTO:-0400
DTSTART:20250426T020000
TZNAME:EDT
END:DAYLIGHT
END:VTIMEZONE
BEGIN:VTIMEZONE
TZID:America/New_York
BEGIN:DAYLIGHT
TZOFFSETFROM:-0400
TZOFFSETTO:-0400
DTSTART:20250426T020000
TZNAME:EDT
END:DAYLIGHT
END:VTIMEZONE
BEGIN:VEVENT
SUMMARY:Downtown Bangor Trick or Treat
DESCRIPTION:It’s all treats and no tricks for young folks during downt
 own Bangor’s annual Halloween event\, Saturday\, October 25\, 2025 fro
 m 2-4pm.\n\n\n\nSPECIAL UPDATE: Shaw's will be open for trick or treatin
 g in their store starting at NOON so little goblins can get a head start
  there and then visit the rest of Downtown! \n\n\n\nDon’t miss anythin
 g! Check the map often to be sure you find all the treats! \n\n\n\nIn ad
 dition to Trick or Treat\, there is also a performance by Late Kompany\,
  and the annual Bangor Zombie Walk will be coming through town toward th
 e end of the event.\n\n\n\n\n\n\n\n\n\n\n\nVisit the map directly at: ht
 tps://map.proxi.co/r/TrickOrTreat2025_view
URL;VALUE=URI:https://downtownbangor.com/events/downtown-bangor-trick-or
 -treat/
UID:urn:uuid:f1e83273-c72b-4950-84d8-b80c3822b507
STATUS:CONFIRMED
ORGANIZER:
DTSTAMP:20260420T105139Z
DTSTART;TZID=America/New_York:20251025T140000
DTEND;TZID=America/New_York:20251025T160000
LOCATION:Various Venues
END:VEVENT
END:VCALENDAR