BEGIN:VCALENDAR
METHOD:PUBLISH
VERSION:2.0
CALSCALE:GREGORIAN
PRODID:-//NONSGML Sandhills Development\, LLC//NONSGML Sugar Calendar Fe
 eds v3.6.6//EN
X-WR-CALNAME:Downtown Bangor Scavenger Hunt
X-WR-CALDESC:Bangor Downtown
X-WR-TIMEZONE:America/New_York
BEGIN:VTIMEZONE
TZID:America/New_York
BEGIN:STANDARD
TZOFFSETFROM:-0400
TZOFFSETTO:-0500
DTSTART:20251102T060000
TZNAME:EST
END:STANDARD
BEGIN:DAYLIGHT
TZOFFSETFROM:-0500
TZOFFSETTO:-0400
DTSTART:20260308T070000
TZNAME:EDT
END:DAYLIGHT
END:VTIMEZONE
BEGIN:VTIMEZONE
TZID:America/New_York
BEGIN:STANDARD
TZOFFSETFROM:-0400
TZOFFSETTO:-0500
DTSTART:20251102T060000
TZNAME:EST
END:STANDARD
BEGIN:DAYLIGHT
TZOFFSETFROM:-0500
TZOFFSETTO:-0400
DTSTART:20260308T070000
TZNAME:EDT
END:DAYLIGHT
END:VTIMEZONE
BEGIN:VEVENT
SUMMARY:Downtown Bangor Scavenger Hunt
DESCRIPTION:A downtown science scavenger hunt! Pick up your sheet/ infor
 mation at the Maine Discovery Museum\, and go find the business that the
  science related clues lead you to. Once done\, return your signed slip 
 back to the MDM. The top finisher receives a prize\, and all who finish 
 will be entered into a drawing for a goodie bag. The hunt has to be comp
 leted between 11 am -1 pm.​Audience: all ages
URL;VALUE=URI:https://downtownbangor.com/events/downtown-bangor-scavenge
 r-hunt/
UID:urn:uuid:f6ba0de6-7891-456a-8373-d96a82287aa6
STATUS:CONFIRMED
ORGANIZER:
DTSTAMP:20260422T102701Z
DTSTART;TZID=America/New_York:20260329T110000
DTEND;TZID=America/New_York:20260329T130000
LOCATION:74 Main Street
END:VEVENT
END:VCALENDAR