BEGIN:VCALENDAR
METHOD:PUBLISH
VERSION:2.0
CALSCALE:GREGORIAN
PRODID:-//NONSGML Sandhills Development\, LLC//NONSGML Sugar Calendar Fe
 eds v3.6.6//EN
X-WR-CALNAME:Downtown Bangor 2024 Margarita Competition
X-WR-CALDESC:Bangor Downtown
X-WR-TIMEZONE:America/New_York
BEGIN:VTIMEZONE
TZID:America/New_York
BEGIN:STANDARD
TZOFFSETFROM:-0400
TZOFFSETTO:-0500
DTSTART:20231105T060000
TZNAME:EST
END:STANDARD
BEGIN:DAYLIGHT
TZOFFSETFROM:-0500
TZOFFSETTO:-0400
DTSTART:20240310T070000
TZNAME:EDT
END:DAYLIGHT
END:VTIMEZONE
BEGIN:VTIMEZONE
TZID:America/New_York
BEGIN:STANDARD
TZOFFSETFROM:-0400
TZOFFSETTO:-0500
DTSTART:20231105T060000
TZNAME:EST
END:STANDARD
BEGIN:DAYLIGHT
TZOFFSETFROM:-0500
TZOFFSETTO:-0400
DTSTART:20240310T070000
TZNAME:EDT
END:DAYLIGHT
END:VTIMEZONE
BEGIN:VEVENT
SUMMARY:Downtown Bangor 2024 Margarita Competition
DESCRIPTION:Help us determine who has the best margarita in Downtown Ban
 gor!\n\nAside from an "official" judging that will be taking place\, we 
 will also be holding a PEOPLE'S CHOICE VOTE by collecting punch cards th
 at will be dropped off to each of the participating locations. The winni
 ng bar/restaurant gets a special award plus bragging rights for the year
 !\n\nLast year's judge's choice winner Diamond's and people's choice win
 ner Benjamin's are back this year to defend their titles. Who will take 
 home the coveted Margarita Cup this year?\n\nParticipating bars / restau
 rants: 2 Feet Brewing\, Benjamin's\, Blaze\, Carolina's\, Diamond’s\, 
 Happy Ending's\, Hero's\,\nNocturnem\, Pepinos\, Portland Pie\, Tesoro's
 \, The Butcher The Baker\, The Waverly\, Umami\n\nPeople's Choice Award 
 Participation:\n- Visit any participating location to pick up your ballo
 t\n- Try the margaritas at THREE participating locations (there is no en
 forcement... this is fun and games but the goal is to try different plac
 es)\n- Drop your ballot in the ballot box at any participating location\
 n\nOf note:\n- Judges will be circulating 4-8 so this is the sweet spot 
 for most locations.\n- Many of the locations will be open and serving be
 fore 4 and after 8\n- The Butcher The Baker is serving brunch and open e
 arly and closing early.
URL;VALUE=URI:https://downtownbangor.com/events/downtown-bangor-2024-mar
 garita-competition/
UID:urn:uuid:92a136e6-1c01-4404-8947-bda8bde781a2
STATUS:CONFIRMED
ORGANIZER:
DTSTAMP:20260425T122257Z
DTSTART;TZID=America/New_York:20240505T160000
DTEND;TZID=America/New_York:20240505T200000
LOCATION:Downtown Bangor
END:VEVENT
END:VCALENDAR