BEGIN:VCALENDAR
METHOD:PUBLISH
VERSION:2.0
CALSCALE:GREGORIAN
PRODID:-//NONSGML Sandhills Development\, LLC//NONSGML Sugar Calendar Fe
 eds v3.6.6//EN
X-WR-CALNAME:Doolally-Celebrate the season with Celtic music and dance
X-WR-CALDESC:Bangor Downtown
X-WR-TIMEZONE:America/New_York
BEGIN:VTIMEZONE
TZID:America/New_York
BEGIN:STANDARD
TZOFFSETFROM:-0400
TZOFFSETTO:-0500
DTSTART:20251102T060000
TZNAME:EST
END:STANDARD
BEGIN:DAYLIGHT
TZOFFSETFROM:-0500
TZOFFSETTO:-0400
DTSTART:20260308T070000
TZNAME:EDT
END:DAYLIGHT
END:VTIMEZONE
BEGIN:VTIMEZONE
TZID:America/New_York
BEGIN:STANDARD
TZOFFSETFROM:-0400
TZOFFSETTO:-0500
DTSTART:20251102T060000
TZNAME:EST
END:STANDARD
BEGIN:DAYLIGHT
TZOFFSETFROM:-0500
TZOFFSETTO:-0400
DTSTART:20260308T070000
TZNAME:EDT
END:DAYLIGHT
END:VTIMEZONE
BEGIN:VEVENT
SUMMARY:Doolally-Celebrate the season with Celtic music and dance
DESCRIPTION:Join us for a performance of an entertaining variety of Celt
 ic music and dance\, and lively Irish tunes!\n\nDoolally is a group of l
 ocal musicians and dancers who perform Celtic music and dance.  Most of 
 the musicians play in weekly Irish sessions in the area.\n\nOur dancers 
 perform a variety of Irish dancing learned at the Thomas School of Dance
 .\n\nThe program runs 45-60 minutes and includes instrumental pieces\, d
 ances\, and singalongs.
URL;VALUE=URI:https://downtownbangor.com/events/doolally-celebrate-the-s
 eason-with-celtic-music-and-dance-2/
UID:urn:uuid:54bf69bd-317f-4b18-97bc-05953605916f
STATUS:CONFIRMED
ORGANIZER:
DTSTAMP:20260420T104324Z
DTSTART;TZID=America/New_York:20260321T140000
DTEND;TZID=America/New_York:20260321T150000
LOCATION:145 Harlow St
END:VEVENT
END:VCALENDAR