BEGIN:VCALENDAR
METHOD:PUBLISH
VERSION:2.0
CALSCALE:GREGORIAN
PRODID:-//NONSGML Sandhills Development\, LLC//NONSGML Sugar Calendar Fe
 eds v3.6.6//EN
X-WR-CALNAME:DIY Plant Workshop
X-WR-CALDESC:Bangor Downtown
X-WR-TIMEZONE:America/New_York
BEGIN:VTIMEZONE
TZID:America/New_York
BEGIN:STANDARD
TZOFFSETFROM:-0400
TZOFFSETTO:-0500
DTSTART:20251102T060000
TZNAME:EST
END:STANDARD
BEGIN:DAYLIGHT
TZOFFSETFROM:-0500
TZOFFSETTO:-0400
DTSTART:20260308T070000
TZNAME:EDT
END:DAYLIGHT
END:VTIMEZONE
BEGIN:VTIMEZONE
TZID:America/New_York
BEGIN:STANDARD
TZOFFSETFROM:-0400
TZOFFSETTO:-0500
DTSTART:20251102T060000
TZNAME:EST
END:STANDARD
BEGIN:DAYLIGHT
TZOFFSETFROM:-0500
TZOFFSETTO:-0400
DTSTART:20260308T070000
TZNAME:EDT
END:DAYLIGHT
END:VTIMEZONE
BEGIN:VEVENT
SUMMARY:DIY Plant Workshop
DESCRIPTION:DIY Plant Workshop!\n$25 PER TICKET!\nSlainco\nDREAM\nCharm 
 Bar\nHow It Works!\n1. Purchase a ticket online or in person!\n2. Choose
  your pot!\n3. Choose your succulent!\n4. Learn how to keep your plant b
 aby alive &amp\; thriving!\n5. Decorate planter with cute plant charms f
 rom DREAM!
URL;VALUE=URI:https://downtownbangor.com/events/diy-plant-workshop/
UID:urn:uuid:88422665-9e65-444c-aba4-9cf72b47519f
STATUS:CONFIRMED
ORGANIZER:
DTSTAMP:20260419T141523Z
DTSTART;TZID=America/New_York:20260502T120000
DTEND;TZID=America/New_York:20260502T150000
LOCATION:98 Central Street
END:VEVENT
END:VCALENDAR