BEGIN:VCALENDAR
METHOD:PUBLISH
VERSION:2.0
CALSCALE:GREGORIAN
PRODID:-//NONSGML Sandhills Development\, LLC//NONSGML Sugar Calendar Fe
 eds v3.6.6//EN
X-WR-CALNAME:Comedian Dave Attell
X-WR-CALDESC:Bangor Downtown
X-WR-TIMEZONE:America/New_York
BEGIN:VTIMEZONE
TZID:America/New_York
BEGIN:DAYLIGHT
TZOFFSETFROM:-0500
TZOFFSETTO:-0400
DTSTART:20260308T070000
TZNAME:EDT
END:DAYLIGHT
END:VTIMEZONE
BEGIN:VTIMEZONE
TZID:America/New_York
BEGIN:DAYLIGHT
TZOFFSETFROM:-0500
TZOFFSETTO:-0400
DTSTART:20260308T070000
TZNAME:EDT
END:DAYLIGHT
END:VTIMEZONE
BEGIN:VEVENT
SUMMARY:Comedian Dave Attell
DESCRIPTION:Dave Attell is one of the most influential and flat-out funn
 iest stand-ups alive\, and 2024 proved it yet again. His new Netflix spe
 cial\, HOT CROSS BUNS\, premiered in March to huge numbers and rave revi
 ews\, reminding everyone why he’s a comedian’s comedian and a fan fa
 vorite.\n\n\n\nAttell first became a cult icon as the host of Comedy Cen
 tral’s classic INSOMNIAC WITH DAVE ATTELL\, a show that cemented his s
 tatus as a late-night legend. He’ll next appear in Hulu’s LIFE &amp\
 ; BETH alongside Amy Schumer\, Michael Rapaport\, and Michael Cera. Fans
  can also catch him on Netflix in BUMPING MICS with Jeff Ross\, and on H
 BO’s CRASHING with Pete Holmes. His Showtime series DAVE’S OLD PORN\
 , his Comedy Central series DAVE ATTELL’S COMEDY UNDERGROUND\, and his
  acclaimed hour special ROAD WORK (now streaming on Paramount+) all show
 case the razor-sharp wit and no-nonsense style that made him a star.\n\n
 \n\nAttell’s film credits include Chris Rock’s cult favorite POOTIE 
 TANG\, FUNNY PEOPLE\, SCARY MOVIE 4\, LOS ENCHILADAS\, and Amy Schumer
 s TRAINWRECK and I FEEL PRETTY. On television\, he’s appeared everywh
 ere—from THE SIMPSONS\, BOB’S BURGERS\, and ARRESTED DEVELOPMENT\, t
 o INSIDE AMY SCHUMER\, DIFFICULT PEOPLE\, THE JIM GAFFIGAN SHOW\, LOUIE\
 , EVERYBODY LOVES RAYMOND\, and TOUGH CROWD WITH COLIN QUINN.\n\n\n\nEnt
 ertainment Weekly once named him one of the “25 Funniest People in Ame
 rica\,” and he’s been proving them right ever since. When he’s not
  touring\, you can find Attell doing what he does best: crushing at the 
 Comedy Cellar in New York City\, where he remains a fixture and a master
  at work. Dave can be seen in the upcoming feature IS THIS THING ON?\, s
 tarring Will Arnett\, directed by Bradley Cooper.
URL;VALUE=URI:https://downtownbangor.com/events/comedian-dave-attell/
UID:urn:uuid:19798d47-d952-437d-bc01-7cf6219b8173
STATUS:CONFIRMED
ORGANIZER:
DTSTAMP:20260425T104528Z
DTSTART;TZID=America/New_York:20260822T200000
DTEND;TZID=America/New_York:20260822T220000
LOCATION:515 Main Street Bangor\, Maine
END:VEVENT
END:VCALENDAR