BEGIN:VCALENDAR
METHOD:PUBLISH
VERSION:2.0
CALSCALE:GREGORIAN
PRODID:-//NONSGML Sandhills Development\, LLC//NONSGML Sugar Calendar Fe
 eds v3.6.6//EN
X-WR-CALNAME:CoComelon: Sing-A-Long Live
X-WR-CALDESC:Bangor Downtown
X-WR-TIMEZONE:America/New_York
BEGIN:VTIMEZONE
TZID:America/New_York
BEGIN:DAYLIGHT
TZOFFSETFROM:-0500
TZOFFSETTO:-0400
DTSTART:20250309T070000
TZNAME:EDT
END:DAYLIGHT
END:VTIMEZONE
BEGIN:VTIMEZONE
TZID:America/New_York
BEGIN:DAYLIGHT
TZOFFSETFROM:-0500
TZOFFSETTO:-0400
DTSTART:20250309T070000
TZNAME:EDT
END:DAYLIGHT
END:VTIMEZONE
BEGIN:VEVENT
SUMMARY:CoComelon: Sing-A-Long Live
DESCRIPTION:CoComelon’s favorite teacher Ms. Appleberry welcomes JJ\, 
 his friends and YOU to come along on a Melon Patch Musical field trip! I
 n CoComelon Sing-A-Long LIVE\, dance and sing along with JJ\, Nina\, 
 Cody\, Cece and all of their friends to some of your favorite bops\, inc
 luding “If You’re Happy and You Know It\,” “Wheels on the Bus\,
  “Animal Dance\,” “Head Shoulders Knees and Toes\,” “Freeze 
 Dance\,” and many more! Jam with the fam and dance every chance you ge
 t in this new musical journey\, coming to a city near you! \n\n\n\nThis 
 show contains Flashing Lights\, Haze (Fog)\, and Confetti.\n\n\n\nPhoto 
 Experience Add on\n\n\n\nIn this exclusive post show experience\, you an
 d your family will have the opportunity to make a lasting memory of your
  visit by taking a photo alongside Ms. Appleberry and JJ!\n\n\n\nPhoto E
 xperience ticket purchasers should go to the Will Call window at the Box
  Office on the show day to pick up their photo experience passes and aft
 er-show instructions. Each adult and child in a group must have a Photo 
 Experience ticket to attend and participate in the Photo Experience. The
  Photo Experience will start shortly after the end of show. Please make 
 sure to bring your camera\, as you will want to capture every moment!\n\
 n\n\n**Children ages 12 and under must be accompanied by a Parent/Guardi
 an. Each Child\, Parent or Guardian must have a show ticket as well as a
  Photo Experience ticket to attend.\n\n\n\nPurchase tickets to the photo
  experience&nbsp\;HERE.
URL;VALUE=URI:https://downtownbangor.com/events/cocomelon-sing-a-long-li
 ve/
UID:urn:uuid:0329b90d-4f9c-4c42-ab7f-23817600c4b8
STATUS:CONFIRMED
ORGANIZER:
DTSTAMP:20260423T103855Z
DTSTART;TZID=America/New_York:20250528T180000
DTEND;TZID=America/New_York:20250528T180000
LOCATION:515 Main Street Bangor\, Maine
END:VEVENT
END:VCALENDAR