BEGIN:VCALENDAR
METHOD:PUBLISH
VERSION:2.0
CALSCALE:GREGORIAN
PRODID:-//NONSGML Sandhills Development\, LLC//NONSGML Sugar Calendar Fe
 eds v3.6.6//EN
X-WR-CALNAME:Choral Evensong
X-WR-CALDESC:Bangor Downtown
X-WR-TIMEZONE:America/New_York
BEGIN:VTIMEZONE
TZID:America/New_York
BEGIN:STANDARD
TZOFFSETFROM:-0400
TZOFFSETTO:-0500
DTSTART:20251102T060000
TZNAME:EST
END:STANDARD
BEGIN:DAYLIGHT
TZOFFSETFROM:-0500
TZOFFSETTO:-0400
DTSTART:20260308T070000
TZNAME:EDT
END:DAYLIGHT
END:VTIMEZONE
BEGIN:VTIMEZONE
TZID:America/New_York
BEGIN:STANDARD
TZOFFSETFROM:-0400
TZOFFSETTO:-0500
DTSTART:20251102T060000
TZNAME:EST
END:STANDARD
BEGIN:DAYLIGHT
TZOFFSETFROM:-0500
TZOFFSETTO:-0400
DTSTART:20260308T070000
TZNAME:EDT
END:DAYLIGHT
END:VTIMEZONE
BEGIN:VEVENT
SUMMARY:Choral Evensong
DESCRIPTION:Please join St. John's Episcopal Church\, at 225 French Stre
 et in Bangor\, on May 3rd at 4:00 pm for a serene and reflective service
  of music\, scripture\, and prayer. Rooted in centuries-old Anglican tra
 dition\, this offering features exquisite choral works\, sung psalms and
  responses\, and contemplative prayers that invite stillness and renewal
  at the close of the day. Whether you are seeking spiritual nourishment\
 , a moment of quiet\, or simply an appreciation for sacred music\, Chora
 l Evensong at St. John’s offers a welcoming space for all. There is no
  cost to attend this service\, but we would welcome donations of canned 
 food items in support of the Bangor Area Homeless Shelter.
URL;VALUE=URI:https://downtownbangor.com/events/choral-evensong/
UID:urn:uuid:ccb9e896-bd43-47fb-aafd-9e8ac48d8e56
STATUS:CONFIRMED
ORGANIZER:
DTSTAMP:20260425T154451Z
DTSTART;TZID=America/New_York:20260503T160000
DTEND;TZID=America/New_York:20260503T170000
LOCATION:225 French St
END:VEVENT
END:VCALENDAR