BEGIN:VCALENDAR
METHOD:PUBLISH
VERSION:2.0
CALSCALE:GREGORIAN
PRODID:-//NONSGML Sandhills Development\, LLC//NONSGML Sugar Calendar Fe
 eds v3.6.6//EN
X-WR-CALNAME:Celebrate National Library Week: Decorate Bookends
X-WR-CALDESC:Bangor Downtown
X-WR-TIMEZONE:America/New_York
BEGIN:VTIMEZONE
TZID:America/New_York
BEGIN:STANDARD
TZOFFSETFROM:-0400
TZOFFSETTO:-0500
DTSTART:20251102T060000
TZNAME:EST
END:STANDARD
BEGIN:DAYLIGHT
TZOFFSETFROM:-0500
TZOFFSETTO:-0400
DTSTART:20260308T070000
TZNAME:EDT
END:DAYLIGHT
END:VTIMEZONE
BEGIN:VTIMEZONE
TZID:America/New_York
BEGIN:STANDARD
TZOFFSETFROM:-0400
TZOFFSETTO:-0500
DTSTART:20251102T060000
TZNAME:EST
END:STANDARD
BEGIN:DAYLIGHT
TZOFFSETFROM:-0500
TZOFFSETTO:-0400
DTSTART:20260308T070000
TZNAME:EDT
END:DAYLIGHT
END:VTIMEZONE
BEGIN:VEVENT
SUMMARY:Celebrate National Library Week: Decorate Bookends
DESCRIPTION:We are taking one day of National Library Week to break out 
 the craft supplies. We have metal bookends just waiting to be decorated 
 by patrons! Stop by to decorate a set and then take them home. (Limit on
 e set per patron.)\n\n\n\nWe may also add some other library or book the
 med crafts. Check back here closer to the day of!
URL;VALUE=URI:https://downtownbangor.com/events/celebrate-national-libra
 ry-week-decorate-bookends/
UID:urn:uuid:daa41f51-3da1-49a5-a808-02f73f9bbacb
STATUS:CONFIRMED
ORGANIZER:
DTSTAMP:20260424T102558Z
DTSTART;TZID=America/New_York:20260423T100000
DTEND;TZID=America/New_York:20260423T150000
LOCATION:145 Harlow St
END:VEVENT
END:VCALENDAR