BEGIN:VCALENDAR
METHOD:PUBLISH
VERSION:2.0
CALSCALE:GREGORIAN
PRODID:-//NONSGML Sandhills Development\, LLC//NONSGML Sugar Calendar Fe
 eds v3.6.6//EN
X-WR-CALNAME:Body Parts Exhibit’s “Meet the Artist”
X-WR-CALDESC:Bangor Downtown
X-WR-TIMEZONE:America/New_York
BEGIN:VTIMEZONE
TZID:America/New_York
BEGIN:DAYLIGHT
TZOFFSETFROM:-0400
TZOFFSETTO:-0400
DTSTART:20240409T060000
TZNAME:EDT
END:DAYLIGHT
END:VTIMEZONE
BEGIN:VTIMEZONE
TZID:America/New_York
BEGIN:DAYLIGHT
TZOFFSETFROM:-0400
TZOFFSETTO:-0400
DTSTART:20240409T060000
TZNAME:EDT
END:DAYLIGHT
END:VTIMEZONE
BEGIN:VEVENT
SUMMARY:Body Parts Exhibit’s “Meet the Artist”
DESCRIPTION:Body Parts will be art exhibition by Donald L. Patten at Cyr
  Gallery from October to November of 2024. 20 illustrative oil paintings
  of human body parts will be exhibited. There will be a "meet the artist
 ” event on October 8th from 6pm to 7pm. Art will be for sale.\n\nDonal
 d Patten is a multimedia artist from Belfast\, Maine. He regularly exhib
 its art in Bangor.
URL;VALUE=URI:https://downtownbangor.com/events/body-parts-exhibits-meet
 -the-artist/
UID:urn:uuid:17d49ded-1edd-49cd-9e22-9911db8ac46f
STATUS:CONFIRMED
ORGANIZER:
DTSTAMP:20260424T145145Z
DTSTART;TZID=America/New_York:20241008T180000
DTEND;TZID=America/New_York:20241008T190000
LOCATION:Cyr Gallery at the Bangor Public Library
END:VEVENT
END:VCALENDAR