BEGIN:VCALENDAR
METHOD:PUBLISH
VERSION:2.0
CALSCALE:GREGORIAN
PRODID:-//NONSGML Sandhills Development\, LLC//NONSGML Sugar Calendar Fe
 eds v3.6.6//EN
X-WR-CALNAME:Best of Bangor Walking Tour
X-WR-CALDESC:Bangor Downtown
X-WR-TIMEZONE:America/New_York
BEGIN:VTIMEZONE
TZID:America/New_York
BEGIN:DAYLIGHT
TZOFFSETFROM:-0500
TZOFFSETTO:-0400
DTSTART:20260308T070000
TZNAME:EDT
END:DAYLIGHT
END:VTIMEZONE
BEGIN:VTIMEZONE
TZID:America/New_York
BEGIN:DAYLIGHT
TZOFFSETFROM:-0500
TZOFFSETTO:-0400
DTSTART:20260308T070000
TZNAME:EDT
END:DAYLIGHT
END:VTIMEZONE
BEGIN:VEVENT
SUMMARY:Best of Bangor Walking Tour
DESCRIPTION:Bangor is a city rich in history\, mystery and powerful even
 ts. Perched on the edge of the Maine North Woods and a one-time importan
 t harbor\, Bangor’s history is filled with tales of lumber barons who 
 struck it rich from her natural resources as well as shipping magnates a
 nd manufacturing pioneers. The Best of Bangor tells the stories of our f
 irst settlers\, the greatest disaster in U.S. Naval History (until Pearl
  Harbor)\, the British Occupation during the War of 1812\, the Great Fir
 e of 1911 and so much more.\n\n\n\nThis tour meets at the Bangor Histori
 cal Society/Thomas A. Hill House\, 159 Union Street\, Bangor.Tickets are
  $12 per person.\n\n\n\nIn case of inclement weather\, tours will be can
 celled if chance of thunderstorms\, but not if just rain in forecast.\n\
 n\n\nTickets must be purchased ahead of time.Tickets may be purchased fo
 r a 6PM until Noon on the day of the tour. Tickets may be purchased for 
 a 10AM tour until 6PM the previous evening. \n\n\n\nTo purchase tickets 
 please visit: https://bangorhistoricalsociety.org/events/Our tours will 
 be capped at 25 guests
URL;VALUE=URI:https://downtownbangor.com/events/best-of-bangor-walking-t
 our-4/
UID:urn:uuid:18852626-a350-4c84-b69d-5282938987a9
STATUS:CONFIRMED
ORGANIZER:
DTSTAMP:20260420T064705Z
DTSTART;TZID=America/New_York:20260523T180000
DTEND;TZID=America/New_York:20260523T193000
LOCATION:159 Union Street
END:VEVENT
END:VCALENDAR