BEGIN:VCALENDAR
METHOD:PUBLISH
VERSION:2.0
CALSCALE:GREGORIAN
PRODID:-//NONSGML Sandhills Development\, LLC//NONSGML Sugar Calendar Fe
 eds v3.6.6//EN
X-WR-CALNAME:Be Red Cross Ready
X-WR-CALDESC:Bangor Downtown
X-WR-TIMEZONE:America/New_York
BEGIN:VTIMEZONE
TZID:America/New_York
BEGIN:DAYLIGHT
TZOFFSETFROM:-0400
TZOFFSETTO:-0400
DTSTART:20250321T230000
TZNAME:EDT
END:DAYLIGHT
END:VTIMEZONE
BEGIN:VTIMEZONE
TZID:America/New_York
BEGIN:DAYLIGHT
TZOFFSETFROM:-0400
TZOFFSETTO:-0400
DTSTART:20250321T230000
TZNAME:EDT
END:DAYLIGHT
END:VTIMEZONE
BEGIN:VEVENT
SUMMARY:Be Red Cross Ready
DESCRIPTION:Hosted by the American Red Cross\, Be Red Cross Ready is a n
 ational\, standardized\, FREE preparedness education curriculum for adul
 ts taught by certified presenters. This program is designed to help peop
 le understand\, prepare for\, and respond appropriately to disasters.\n\
 nTo register\, contact Caroline King\, caroline.king3@redcross.org or (2
 07) 272-9561.
URL;VALUE=URI:https://downtownbangor.com/events/be-red-cross-ready/
UID:urn:uuid:f28564e6-04b2-4613-b0f0-c62730fdeda0
STATUS:CONFIRMED
ORGANIZER:
DTSTAMP:20260422T101012Z
DTSTART;TZID=America/New_York:20250920T110000
DTEND;TZID=America/New_York:20250920T120000
LOCATION:145 Harlow St
END:VEVENT
END:VCALENDAR