BEGIN:VCALENDAR
METHOD:PUBLISH
VERSION:2.0
CALSCALE:GREGORIAN
PRODID:-//NONSGML Sandhills Development\, LLC//NONSGML Sugar Calendar Fe
 eds v3.6.6//EN
X-WR-CALNAME:Bangor Community Resource Fair
X-WR-CALDESC:Bangor Downtown
X-WR-TIMEZONE:America/New_York
BEGIN:VTIMEZONE
TZID:America/New_York
BEGIN:STANDARD
TZOFFSETFROM:-0400
TZOFFSETTO:-0500
DTSTART:20251102T060000
TZNAME:EST
END:STANDARD
BEGIN:DAYLIGHT
TZOFFSETFROM:-0500
TZOFFSETTO:-0400
DTSTART:20260308T070000
TZNAME:EDT
END:DAYLIGHT
END:VTIMEZONE
BEGIN:VTIMEZONE
TZID:America/New_York
BEGIN:STANDARD
TZOFFSETFROM:-0400
TZOFFSETTO:-0500
DTSTART:20251102T060000
TZNAME:EST
END:STANDARD
BEGIN:DAYLIGHT
TZOFFSETFROM:-0500
TZOFFSETTO:-0400
DTSTART:20260308T070000
TZNAME:EDT
END:DAYLIGHT
END:VTIMEZONE
BEGIN:VEVENT
SUMMARY:Bangor Community Resource Fair
DESCRIPTION:The library will host Food AND Medicine for their monthly re
 source fair in the Atrium. There will be free food and information about
  community resources available to those in the Bangor area\, as well as 
 raffle prizes.\n\n\n\nDo you need help finding a good job or paying your
  bills? Do you have questions about public benefits or unemployment? Joi
 n us to learn more and have your questions answered. All are welcome.\n\
 n\n\nFood AND Medicine is a grassroots member-based organization that wo
 rks to address the root causes of poverty. They prioritize people’s ab
 ility to form a union\, have affordable healthy food\, access public tra
 nsportation\, and make a living wage.
URL;VALUE=URI:https://downtownbangor.com/events/bangor-community-resourc
 e-fair-3/
UID:urn:uuid:40e4a141-dad7-48a7-8530-570577c0c300
STATUS:CONFIRMED
ORGANIZER:
DTSTAMP:20260423T151258Z
DTSTART;TZID=America/New_York:20260311T090000
DTEND;TZID=America/New_York:20260311T120000
LOCATION:145 Harlow St
END:VEVENT
END:VCALENDAR