BEGIN:VCALENDAR
METHOD:PUBLISH
VERSION:2.0
CALSCALE:GREGORIAN
PRODID:-//NONSGML Sandhills Development\, LLC//NONSGML Sugar Calendar Fe
 eds v3.6.6//EN
X-WR-CALNAME:Arts &amp\; Crafts Supply Swap
X-WR-CALDESC:Bangor Downtown
X-WR-TIMEZONE:America/New_York
BEGIN:VTIMEZONE
TZID:America/New_York
BEGIN:DAYLIGHT
TZOFFSETFROM:-0400
TZOFFSETTO:-0400
DTSTART:20240412T220000
TZNAME:EDT
END:DAYLIGHT
END:VTIMEZONE
BEGIN:VTIMEZONE
TZID:America/New_York
BEGIN:DAYLIGHT
TZOFFSETFROM:-0400
TZOFFSETTO:-0400
DTSTART:20240412T220000
TZNAME:EDT
END:DAYLIGHT
END:VTIMEZONE
BEGIN:VEVENT
SUMMARY:Arts &amp\; Crafts Supply Swap
DESCRIPTION:Celebrate the arts in Bangor by making something new or fost
 ering creativity in others by passing on unneeded supplies! You don’t 
 have to bring in anything to swap if you don’t have anything! Any left
 over items will be used for library programs\, held for the next swap\, 
 or donated to local charitable groups.\n\nSupply Drop-Off: Now! You can 
 leave at our greeter desk in the first floor atrium. Please contact Shav
 aun Rigler at 207-922-6958 or shavaun.rigler@bangorpubliclibrary.org if 
 you have more than 2 bags or large items.
URL;VALUE=URI:https://downtownbangor.com/events/arts-crafts-supply-swap-
 2/
UID:urn:uuid:c27d1e4d-648b-4d11-88dd-f0807ff09b26
STATUS:CONFIRMED
ORGANIZER:
DTSTAMP:20260424T160851Z
DTSTART;TZID=America/New_York:20241012T100000
DTEND;TZID=America/New_York:20241012T170000
LOCATION:Bangor Public Library
END:VEVENT
END:VCALENDAR