BEGIN:VCALENDAR
METHOD:PUBLISH
VERSION:2.0
CALSCALE:GREGORIAN
PRODID:-//NONSGML Sandhills Development\, LLC//NONSGML Sugar Calendar Fe
 eds v3.6.6//EN
X-WR-CALNAME:80s Burlesque Show @ Benjamins Pub
X-WR-CALDESC:Bangor Downtown
X-WR-TIMEZONE:America/New_York
BEGIN:VTIMEZONE
TZID:America/New_York
BEGIN:DAYLIGHT
TZOFFSETFROM:-0500
TZOFFSETTO:-0400
DTSTART:20240310T070000
TZNAME:EDT
END:DAYLIGHT
END:VTIMEZONE
BEGIN:VTIMEZONE
TZID:America/New_York
BEGIN:DAYLIGHT
TZOFFSETFROM:-0500
TZOFFSETTO:-0400
DTSTART:20240310T070000
TZNAME:EDT
END:DAYLIGHT
END:VTIMEZONE
BEGIN:VEVENT
SUMMARY:80s Burlesque Show @ Benjamins Pub
DESCRIPTION:Eye Candy Burlesque is taking you back to the 80s with a fun
  night of burlesque! This show will be inspired by everything 80s and yo
 u won't want to miss it! Grab your 80s attire and come hang out with us!
 \n\nTickets: $15 online and $20 at the door! Don't forget your tip money
 !
URL;VALUE=URI:https://downtownbangor.com/events/80s-burlesque-show-benja
 mins-pub/
UID:urn:uuid:0130c67b-eca3-4849-a6be-e6bf0be19137
STATUS:CONFIRMED
ORGANIZER:
DTSTAMP:20260423T103923Z
DTSTART;TZID=America/New_York:20240629T183000
DTEND;TZID=America/New_York:20240629T210000
LOCATION:Benjamins pub
END:VEVENT
END:VCALENDAR