BEGIN:VCALENDAR
METHOD:PUBLISH
VERSION:2.0
CALSCALE:GREGORIAN
PRODID:-//NONSGML Sandhills Development\, LLC//NONSGML Sugar Calendar Fe
 eds v3.6.6//EN
X-WR-CALNAME:2 Feet Brewing Costume Contest
X-WR-CALDESC:Bangor Downtown
X-WR-TIMEZONE:America/New_York
BEGIN:VTIMEZONE
TZID:America/New_York
BEGIN:DAYLIGHT
TZOFFSETFROM:-0400
TZOFFSETTO:-0400
DTSTART:20240501T230000
TZNAME:EDT
END:DAYLIGHT
END:VTIMEZONE
BEGIN:VTIMEZONE
TZID:America/New_York
BEGIN:DAYLIGHT
TZOFFSETFROM:-0400
TZOFFSETTO:-0400
DTSTART:20240501T230000
TZNAME:EDT
END:DAYLIGHT
END:VTIMEZONE
BEGIN:VEVENT
SUMMARY:2 Feet Brewing Costume Contest
DESCRIPTION:Come by 2 Feet Brewing on Halloween Day. We'll be having an 
 all-day costume contest from 11-8 pm\, with winner earning a piece of ca
 ke!
URL;VALUE=URI:https://downtownbangor.com/events/2-feet-brewing-costume-c
 ontest/
UID:urn:uuid:433d5a75-6ed4-4bd7-a3e0-2a6f4a346590
STATUS:CONFIRMED
ORGANIZER:
DTSTAMP:20260421T032225Z
DTSTART;TZID=America/New_York:20241031T110000
DTEND;TZID=America/New_York:20241031T200000
END:VEVENT
END:VCALENDAR